BEGIN:VCALENDAR
VERSION:2.0
PRODID:-//ChamberMaster//Event Calendar 2.0//EN
METHOD:PUBLISH
X-PUBLISHED-TTL:P3D
REFRESH-INTERVAL:P3D
CALSCALE:GREGORIAN
BEGIN:VEVENT
DTSTART:20170302T233000Z
DTEND:20170303T020000Z
X-MICROSOFT-CDO-ALLDAYEVENT:FALSE
SUMMARY:Taste of Africa event
DESCRIPTION:Peoria\, IL - Taste of Africa \n\n			 \n\n			The Peoria Area World Affairs Council (PAWAC)\, the Illinois Central College (ICC) Culinary Institute\, and the ICC International Education Program celebrate African cuisine with the special dinner program "Taste of Africa" on Thursday\, March 2\, 2017. The event begins at 5:30 PM at the Culinary Institute located in Dogwood Hall on the ICC - North campus.\n\n			 \n\n			"Taste of Africa" features a three-course meal specially made by students and staff of the Culinary Institute. Diners will receive copies of the North African cuisine selected and learn cooking techniques by watching the expert chefs prepare menu items throughout the evening. Tours of the Culinary Institute's state-of-the-art facilities are also available. The evening concludes with details of the many international programs available at Illinois Central College. This honors ICC's dinner two Fulbright scholars from Africa\; Letshwiti Tutwane from Botswana and Nahed Shata from Egypt. They will be the featured speakers. In addition\, Dr. Barbara Burton will briefly highlight the ICC international program.\n\n			 \n\n			Tickets are $35.00 for Peoria Area World Affairs Council members\; $40.00 for the general public. The menu features both meat and vegetarian options. Online purchasing information is available via www.pawac.org. Seating is limited\, so order today!\n\n			 \n\n			Enjoy the cultural journal to North Africa throughout the evening:\n\n			5:30 PM to 6:00 PM - Opening Reception / Culinary Institute Tours\n\n			6:15 PM to 7:30 PM - Dinner with Exclusive Viewing of Meal Preparation\n\n			7:30 PM to 8:00 PM - Post Dinner Presentation by ICC's Fulbright Scholars from Egypt and Botswana\, as well as Dr. Barbara Burton\, Director of International Programs at ICC\n\n			 \n\n			All proceeds from "Taste of Africa" benefit ICC's Culinary Institute and international education programs and the Peoria Area World Affairs Council's education programs.\n\n			 \n\n			The Peoria Area World Affairs Council promotes a better understanding of world affairs among members\, students\, and the community through public programs in Central Illinois. PAWAC is nonprofit and nonpartisan. For additional information\, contact the Peoria Area World Affairs Council at 309-677-2454 or email director@pawac.org. Information is also available via www.pawac.org.\n\n			####
X-ALT-DESC;FMTTYPE=text/html:<div style="clear: both\;">&nbsp\;\n<table align="center" border="0" cellpadding="0" cellspacing="0" id="content_LETTER.BLOCK5" style="width: 100%\;" width="100%">\n	<tbody>\n		<tr>\n			<td style="padding: 6pt 0in\; border: rgb(0\, 0\, 0)\; border-image: none\; vertical-align: top\;"><span style="font-size: 11pt\;"><span style="font-family: arial\,sans-serif\;"><span style="color: rgb(55\, 55\, 55)\;">Peoria\, IL&nbsp\;-&nbsp\;Taste of Africa </span></span></span><br />\n			&nbsp\;<br />\n			<span style="font-size: 11pt\;"><span style="font-family: arial\,sans-serif\;"><span style="color: rgb(55\, 55\, 55)\;">The Peoria Area World Affairs Council (PAWAC)\, the Illinois Central College (ICC) Culinary Institute\, and the ICC International Education Program celebrate African cuisine with the special dinner program &quot\;Taste of Africa&quot\; on <strong>Thursday\, March 2\, 2017.</strong> <strong>The event begins at 5:30 PM at the Culinary Institute located in Dogwood Hall on the ICC - North campus.</strong></span></span></span><br />\n			&nbsp\;<br />\n			<span style="font-size: 11pt\;"><span style="font-family: arial\,sans-serif\;"><span style="color: rgb(55\, 55\, 55)\;">&quot\;Taste of Africa&quot\; features a three-course meal specially made by students and staff of the Culinary Institute. Diners will receive copies of the North African cuisine selected and learn cooking techniques by watching the expert chefs prepare menu items throughout the evening. Tours of the Culinary Institute&#39\;s state-of-the-art facilities are also available. The evening concludes with details of the many international programs available at Illinois Central College. This honors ICC&#39\;s dinner two Fulbright scholars from Africa\; Letshwiti Tutwane from Botswana and Nahed Shata from Egypt. They will be the featured speakers. In addition\, Dr. Barbara Burton will briefly highlight the ICC international program.</span></span></span><br />\n			&nbsp\;<br />\n			<span style="font-size: 11pt\;"><span style="font-family: arial\,sans-serif\;"><span style="color: rgb(55\, 55\, 55)\;">Tickets are $35.00 for Peoria Area World Affairs Council members\; $40.00 for the general public. The menu features both meat and vegetarian options. Online purchasing information is available via <a href="http://www.pawac.org/" shape="rect"><span style="color: rgb(0\, 0\, 255)\;">www.pawac.org</span></a>. Seating is limited\, so order today!</span></span></span><br />\n			&nbsp\;<br />\n			<span style="font-size: 11pt\;"><span style="font-family: arial\,sans-serif\;"><span style="color: rgb(55\, 55\, 55)\;">Enjoy the cultural journal to North Africa throughout the evening:</span></span></span><br />\n			<span style="font-size: 11pt\;"><span style="font-family: arial\,sans-serif\;"><span style="color: rgb(55\, 55\, 55)\;">5:30 PM to 6:00 PM - Opening Reception / Culinary Institute Tours</span></span></span><br />\n			<span style="font-size: 11pt\;"><span style="font-family: arial\,sans-serif\;"><span style="color: rgb(55\, 55\, 55)\;">6:15 PM to 7:30 PM - Dinner with Exclusive Viewing of Meal Preparation</span></span></span><br />\n			<span style="font-size: 11pt\;"><span style="font-family: arial\,sans-serif\;"><span style="color: rgb(55\, 55\, 55)\;">7:30 PM to 8:00 PM - Post Dinner Presentation by ICC&#39\;s Fulbright Scholars from Egypt and Botswana\, as well as Dr. Barbara Burton\, Director of International Programs at ICC</span></span></span><br />\n			&nbsp\;<br />\n			<span style="font-size: 11pt\;"><span style="font-family: arial\,sans-serif\;"><span style="color: rgb(55\, 55\, 55)\;">All proceeds from &quot\;Taste of Africa&quot\; benefit ICC&#39\;s Culinary Institute and international education programs and the Peoria Area World Affairs Council&#39\;s education programs.</span></span></span><br />\n			&nbsp\;<br />\n			<span style="font-size: 11pt\;"><span style="font-family: arial\,sans-serif\;"><span style="color: rgb(55\, 55\, 55)\;">The Peoria Area World Affairs Council promotes a better understanding of world affairs among members\, students\, and the community through public programs in Central Illinois. PAWAC is nonprofit and nonpartisan. For additional information\, contact the Peoria Area World Affairs Council at 309-677-2454 or email <a alt="http://director@pawac.org" href="http://r20.rs6.net/tn.jsp?f=001Frg-Q9BAWOyy_WVs6o8IghIgwUZP3gNYvo2B97E6OJkJ7bwdBfSEhGmETfNsVryfeumpLwdbezIBkg7uyxWJSEac5fiLASR4VIBXMD_3Ck8RXe4bKrFGlBYpeePExhK6lkHD4x209JCA9WrXZzQJPcaR4zeIS88JZoNCr5NNlpM=&amp\;c=fIBDcl19krQSO9VjLDKlQgOIXqidRLVrzTRrP7ghGglACMbYYcoX4Q==&amp\;ch=Xk3B6-YJXe7vRtn8RdqLZL6CoTzMgbHW97JS1PSRIGqvnjOMw-ijbA==" linktype="1" shape="rect" target="_blank" track="on"><span style="color: rgb(0\, 0\, 255)\;">director@pawac.org</span></a>. Information is also available via <a href="http://www.pawac.org/" shape="rect"><span style="color: rgb(0\, 0\, 255)\;">www.pawac.org</span></a>.</span></span></span><br />\n			<span style="font-size: 11pt\;"><span style="font-family: arial\,sans-serif\;"><span style="color: rgb(55\, 55\, 55)\;">####</span></span></span></td>\n		</tr>\n	</tbody>\n</table>\n</div>\n\n<div style="clear: both\;">&nbsp\;</div>\n
LOCATION:Illinois Central College Culinary Institute Dogwood Hall ICC - North Campus 5407 N. University Street Peoria\, IL. 61635
UID:e.526.3785
SEQUENCE:3
DTSTAMP:20260422T113044Z
URL:https://business.epcc.org/events/details/taste-of-africa-event-3785
END:VEVENT

END:VCALENDAR
