BEGIN:VCALENDAR
VERSION:2.0
PRODID:-//ChamberMaster//Event Calendar 2.0//EN
METHOD:PUBLISH
X-PUBLISHED-TTL:P3D
REFRESH-INTERVAL:P3D
CALSCALE:GREGORIAN
BEGIN:VEVENT
DTSTART:20240206T180000Z
DTEND:20240206T193000Z
X-MICROSOFT-CDO-ALLDAYEVENT:FALSE
SUMMARY:Tax Planning for Small Business Owners in 2024 and Beyond
DESCRIPTION:The Turner Center for Entrepreneurship and Illinois Small Business Development Center (SBDC) at Bradley University is thankful to Total Income Tax for providing this no-cost webinar to provide the best practices for small business tax planning. As a small business owner\, you have a lot on your to-do list and filing taxes might seem like an overwhelming task. This training event will help you plan ahead\, get organized\, and manage cash flow so you can set aside enough money to cover your tax bill and avoid financial strain and alleviate stress during tax time.\n\n \n\nTOPICS OF DISCUSSION:\n\n \n\nStarting Right\n\nThe value of tax planning \n\nTax impacts to consider when setting up your bookkeeping\n\nBasics of tax reporting (What\, When\, How and Why)\n\nIncome Tax Reporting\n\nSales Tax Reporting\n\nDeductibility of start-up expenses\n\nShould you prepare your tax forms or hire a professional?\n\n \n\nMaintaining Good Practices\n\nGood recordkeeping   know your numbers\n\nWhere to obtain timely\, complete\, and accurate information\n\nBenefits of quarterly meetings with your accountant\n\nWays to retain earnings in your business\n\nHow to respond to a tax levy or garnishment\n\n \n\nWhat's New for 2024\n\n1099 Reporting and Merchant Processing\n\nBeneficial Ownership reporting (FinCEN)\n\nEmployee Retention Credit (Updates? Observations? Implications?)\n\nInflation Reduction Act \n\nEV or Clean Energy Credits for consumer/small business\n\nNew hiring at the IRS (increased audit risk\, or HR attrition management?)\n\n \n\nWho should attend:\n\nProspective Business Owners\n\nNew Business Owners and Recent Business Founders\n\nAll Small Business Owners Seeking Tax Planning Information\n\n \n\nOUR SPEAKER:\n\n \n\nWilliam Sharpe\, President\, Total Income Tax\n\n \n\nCosponsored by: Peoria Chamber of Commerce\, SCORE\, Minority Business Development Center\, Hispanic Chamber of Commerce\, Illinois APEX-Bradley University\, and SmartStart Dashboard. Registration information will be shared with training partners.\n\nRegistration Zoom Link:\n\nhttps://Bradley.zoom.us/meeting/register/tJwtc-GgpzMtHtzzIBkLNG1M3MZLgYL-evSN
X-ALT-DESC;FMTTYPE=text/html:<span style="color:#222222"><span style="font-family:times new roman\,serif"><span style="font-size:12.0pt">The Turner Center for Entrepreneurship and Illinois Small Business Development Center (SBDC) at Bradley University is thankful to Total Income Tax for providing this no-cost webinar to provide the best practices for small business tax planning. As a small business owner\, you have a lot on your to-do list and filing taxes might seem like an overwhelming task. This training event will help you plan ahead\, get organized\, and manage cash flow so you can set aside enough money to cover your tax bill and avoid financial strain and alleviate stress during tax time.</span></span></span><br />\n&nbsp\;<br />\n<strong><span style="color:#222222"><span style="font-family:times new roman\,serif"><span style="font-size:12.0pt">TOPICS OF DISCUSSION:</span></span></span></strong><br />\n&nbsp\;<br />\n<strong><span style="color:#222222"><span style="font-family:times new roman\,serif"><span style="font-size:12.0pt">Starting Right</span></span></span></strong><br />\n<span style="color:#222222"><span style="font-family:times new roman\,serif"><span style="font-size:12.0pt">The value of tax planning </span></span></span><br />\n<span style="color:#222222"><span style="font-family:times new roman\,serif"><span style="font-size:12.0pt">Tax impacts to consider when setting up your bookkeeping</span></span></span><br />\n<span style="color:#222222"><span style="font-family:times new roman\,serif"><span style="font-size:12.0pt">Basics of tax reporting (What\, When\, How and Why)</span></span></span><br />\n<span style="color:#222222"><span style="font-family:times new roman\,serif"><span style="font-size:12.0pt">Income Tax Reporting</span></span></span><br />\n<span style="color:#222222"><span style="font-family:times new roman\,serif"><span style="font-size:12.0pt">Sales Tax Reporting</span></span></span><br />\n<span style="color:#222222"><span style="font-family:times new roman\,serif"><span style="font-size:12.0pt">Deductibility of start-up expenses</span></span></span><br />\n<span style="color:#222222"><span style="font-family:times new roman\,serif"><span style="font-size:12.0pt">Should you prepare your tax forms or hire a professional?</span></span></span><br />\n&nbsp\;<br />\n<strong><span style="color:#222222"><span style="font-family:times new roman\,serif"><span style="font-size:12.0pt">Maintaining Good Practices</span></span></span></strong><br />\n<span style="color:#222222"><span style="font-family:times new roman\,serif"><span style="font-size:12.0pt">Good recordkeeping &ndash\; know your numbers</span></span></span><br />\n<span style="color:#222222"><span style="font-family:times new roman\,serif"><span style="font-size:12.0pt">Where to obtain timely\, complete\, and accurate information</span></span></span><br />\n<span style="color:#222222"><span style="font-family:times new roman\,serif"><span style="font-size:12.0pt">Benefits of quarterly meetings with your accountant</span></span></span><br />\n<span style="color:#222222"><span style="font-family:times new roman\,serif"><span style="font-size:12.0pt">Ways to retain earnings in your business</span></span></span><br />\n<span style="color:#222222"><span style="font-family:times new roman\,serif"><span style="font-size:12.0pt">How to respond to a tax levy or garnishment</span></span></span><br />\n&nbsp\;<br />\n<strong><span style="color:#222222"><span style="font-family:times new roman\,serif"><span style="font-size:12.0pt">What&rsquo\;s New for 2024</span></span></span></strong><br />\n<span style="color:#222222"><span style="font-family:times new roman\,serif"><span style="font-size:12.0pt">1099 Reporting and Merchant Processing</span></span></span><br />\n<span style="color:#222222"><span style="font-family:times new roman\,serif"><span style="font-size:12.0pt">Beneficial Ownership reporting (FinCEN)</span></span></span><br />\n<span style="color:#222222"><span style="font-family:times new roman\,serif"><span style="font-size:12.0pt">Employee Retention Credit (Updates? Observations? Implications?)</span></span></span><br />\n<span style="color:#222222"><span style="font-family:times new roman\,serif"><span style="font-size:12.0pt">Inflation Reduction Act </span></span></span><br />\n<span style="color:#222222"><span style="font-family:times new roman\,serif"><span style="font-size:12.0pt">EV or Clean Energy Credits for consumer/small business</span></span></span><br />\n<span style="color:#222222"><span style="font-family:times new roman\,serif"><span style="font-size:12.0pt">New hiring at the IRS (increased audit risk\, or HR attrition management?)</span></span></span><br />\n&nbsp\;<br />\n<strong><span style="color:#222222"><span style="font-family:times new roman\,serif"><span style="font-size:12.0pt">Who should attend:</span></span></span></strong><br />\n<span style="color:#222222"><span style="font-family:times new roman\,serif"><span style="font-size:12.0pt">Prospective Business Owners</span></span></span><br />\n<span style="color:#222222"><span style="font-family:times new roman\,serif"><span style="font-size:12.0pt">New Business Owners and Recent Business Founders</span></span></span><br />\n<span style="color:#222222"><span style="font-family:times new roman\,serif"><span style="font-size:12.0pt">All Small Business Owners Seeking Tax Planning Information</span></span></span><br />\n&nbsp\;<br />\n<strong><span style="color:#222222"><span style="font-family:times new roman\,serif"><span style="font-size:12.0pt">OUR SPEAKER:</span></span></span></strong><br />\n&nbsp\;<br />\n<strong><span style="color:#222222"><span style="font-family:times new roman\,serif"><span style="font-size:12.0pt">William Sharpe</span></span></span></strong><span style="color:#222222"><span style="font-family:times new roman\,serif"><span style="font-size:12.0pt">\, President</span></span></span><span style="font-family:times new roman\,serif"><span style="font-size:12.0pt">\, Total Income Tax</span></span><br />\n&nbsp\;<br />\n<span style="font-family:times new roman\,serif"><span style="font-size:12.0pt">Cosponsored by: Peoria Chamber of Commerce\, SCORE\, Minority Business Development Center\, Hispanic Chamber of Commerce\, Illinois APEX-Bradley University\, and SmartStart Dashboard. </span></span><span style="font-family:times new roman\,serif">Registration information will be shared with training partners.</span><br />\n<span style="font-family:times new roman\,serif">Registration Zoom Link:</span><br />\n<span style="font-family:calibri\,sans-serif"><span style="font-size:11.0pt"><a href="https://bradley.zoom.us/meeting/register/tJwtc-GgpzMtHtzzIBkLNG1M3MZLgYL-evSN"><span style="font-family:times new roman\,serif">https://Bradley.zoom.us/meeting/register/tJwtc-GgpzMtHtzzIBkLNG1M3MZLgYL-evSN</span></a></span></span>
LOCATION:Online
UID:e.526.7355
SEQUENCE:3
DTSTAMP:20260422T000718Z
URL:https://business.epcc.org/events/details/tax-planning-for-small-business-owners-in-2024-and-beyond-7355
END:VEVENT

END:VCALENDAR
