BEGIN:VCALENDAR
VERSION:2.0
PRODID:-//ChamberMaster//Event Calendar 2.0//EN
METHOD:PUBLISH
X-PUBLISHED-TTL:P3D
REFRESH-INTERVAL:P3D
CALSCALE:GREGORIAN
BEGIN:VEVENT
DTSTART:20190220T173000Z
DTEND:20190220T193000Z
X-MICROSOFT-CDO-ALLDAYEVENT:FALSE
SUMMARY:Tax Planning for Small Businesses
DESCRIPTION:Tax planning is the process of considering various tax options in order to legally conduct and operate your small business. Good tax advice is a very valuable commodity. If you are a start-up business or if you are considering starting your own business\, then this training event is for you.\n\n\nDiscussion Points:\n\n\n	Determine when and how to eliminate or reduce taxes\n	Keeping accurate accounting\n	Improper allocation of income\n	How to lower your tax rate\n	Controlling the time when tax must be paid\n	Claiming tax credits\n	Avoiding the most common and costly tax planning mistakes\n	Learn ways to save on business income taxes\n	Planning and organizing for a new business
X-ALT-DESC;FMTTYPE=text/html:<p>Tax planning is the process of considering various tax options in order to legally conduct and operate your small business. Good tax advice is a very valuable commodity. If you are a start-up business or if you are considering starting your own business\, then this training event is for you.</p>\n\n<div>\n<h3>Discussion Points:</h3>\n\n<ol>\n	<li>Determine when and how to eliminate or reduce taxes</li>\n	<li>Keeping accurate accounting</li>\n	<li>Improper allocation of income</li>\n	<li>How to lower your tax rate</li>\n	<li>Controlling the time when tax must be paid</li>\n	<li>Claiming tax credits</li>\n	<li>Avoiding the most common and costly tax planning mistakes</li>\n	<li>Learn ways to save on business income taxes</li>\n	<li>Planning and organizing for a new business</li>\n</ol>\n</div>\n
LOCATION:PeoriaNEXT Innovation Center\, 801 W Main Street\, Peoria
UID:e.526.5964
SEQUENCE:3
DTSTAMP:20260420T231033Z
URL:https://business.epcc.org/events/details/tax-planning-for-small-businesses-5964
END:VEVENT

END:VCALENDAR
