BEGIN:VCALENDAR
VERSION:2.0
PRODID:-//ChamberMaster//Event Calendar 2.0//EN
METHOD:PUBLISH
X-PUBLISHED-TTL:P3D
REFRESH-INTERVAL:P3D
CALSCALE:GREGORIAN
BEGIN:VEVENT
DTSTART:20180720T160000Z
DTEND:20180720T180000Z
X-MICROSOFT-CDO-ALLDAYEVENT:FALSE
SUMMARY:Tazewell County Health Department QPR Suicide Prevention Workshop
DESCRIPTION:Join us for a QPR (Question\, Persuade\, and Refer) Suicide Prevention workshop on Friday\, July 20\, 2018. Workshop REQUIRES registration. It is free of cost and lunch is provided.\n\nJust as people trained in CPR and the Heimlich Maneuver help save thousands of lives each year\, people trained in QPR learn how to recognize the warning signs of a suicide crisis and how to question\, persuade\, and refer someone to help. Each year thousands of Americans\, like you\, are saying "Yes" to saving the life of a friend\, colleague\, sibling\, or neighbor.\n\nCEU's are available upon request.
X-ALT-DESC;FMTTYPE=text/html:<p style="box-sizing: border-box\; margin: 1em 0px\; padding: 0px\; border: 0px\; font-variant-numeric: inherit\; font-variant-east-asian: inherit\; font-stretch: inherit\; font-size: 14px\; line-height: 1.4em\; font-family: &quot\;Open Sans&quot\;\, sans-serif\; vertical-align: baseline\; background: transparent\; color: rgb(58\, 50\, 53)\;">Join us for a QPR (Question\, Persuade\, and Refer) Suicide Prevention workshop on Friday\, July 20\, 2018. Workshop REQUIRES registration. It is free of cost and lunch is provided.</p>\n\n<p style="box-sizing: border-box\; margin: 1em 0px\; padding: 0px\; border: 0px\; font-variant-numeric: inherit\; font-variant-east-asian: inherit\; font-stretch: inherit\; font-size: 14px\; line-height: 1.4em\; font-family: &quot\;Open Sans&quot\;\, sans-serif\; vertical-align: baseline\; background: transparent\; color: rgb(58\, 50\, 53)\;">Just as people trained in CPR and the Heimlich Maneuver help save thousands of lives each year\, people trained in QPR learn how to recognize the warning signs of a suicide crisis and how to question\, persuade\, and refer someone to help. Each year thousands of Americans\, like you\, are saying &ldquo\;Yes&rdquo\; to saving the life of a friend\, colleague\, sibling\, or neighbor.</p>\n\n<p style="box-sizing: border-box\; margin: 1em 0px\; padding: 0px\; border: 0px\; font-variant-numeric: inherit\; font-variant-east-asian: inherit\; font-stretch: inherit\; font-size: 14px\; line-height: 1.4em\; font-family: &quot\;Open Sans&quot\;\, sans-serif\; vertical-align: baseline\; background: transparent\; color: rgb(58\, 50\, 53)\;">CEU&rsquo\;s are available upon request.</p>\n
LOCATION:Hult Center for Healthy Living 5215 N. Knoxville Ave.\, Peoria\, IL\, 61614
UID:e.526.5503
SEQUENCE:3
DTSTAMP:20260421T095934Z
URL:https://business.epcc.org/events/details/tazewell-county-health-department-qpr-suicide-prevention-workshop-5503
END:VEVENT

END:VCALENDAR
