BEGIN:VCALENDAR
VERSION:2.0
PRODID:-//ChamberMaster//Event Calendar 2.0//EN
METHOD:PUBLISH
X-PUBLISHED-TTL:P3D
REFRESH-INTERVAL:P3D
CALSCALE:GREGORIAN
BEGIN:VEVENT
DTSTART:20160615T173000Z
DTEND:20160615T223000Z
X-MICROSOFT-CDO-ALLDAYEVENT:FALSE
SUMMARY:TCRC Annual Charity Golf Classic
DESCRIPTION:TCRC Annual Charity Golf Classic\n\nWednesday\, June 15\, 2016\n\nQuail Meadows Golf Course\, \n\n2215 Centennial Drive\, Washington\n\n \n\n4-player team-Scramble Format\n\nRegistration - 11:00 am\n\nShotgun start at 12:30\n\nBox lunch\, 18 holes of golf\, Buffalo Wild Wings Sliders & much more!\n\n \n\nFor more info call (309)-925-2061 x 269!\n\nOr visit www.tcrcorg.com
X-ALT-DESC;FMTTYPE=text/html:<strong><em><span style="color: black\;"><span style="font-family: palatino linotype\,serif\;"><span style="font-size: 20pt\;">TCRC Annual Charity Golf Classic</span></span></span></em></strong><br />\n<span style="color: black\;"><span style="font-family: palatino linotype\,serif\;"><span style="font-size: 20pt\;">Wednesday\, June 15\, 2016</span></span></span><br />\n<span style="color: black\;"><span style="font-family: palatino linotype\,serif\;"><span style="font-size: 20pt\;">Quail Meadows Golf Course\, </span></span></span><br />\n<span style="color: rgb(21\, 31\, 18)\;"><span style="font-family: palatino linotype\,serif\;"><span style="font-size: 20pt\;">2215 </span></span></span><span style="color: rgb(21\, 31\, 18)\;"><span style="font-family: calibri\,sans-serif\;"><span style="font-size: 20pt\;">Centennial</span></span></span><span style="color: rgb(21\, 31\, 18)\;"><span style="font-family: palatino linotype\,serif\;"><span style="font-size: 20pt\;"> Drive\, </span></span></span><span style="color: black\;"><span style="font-family: palatino linotype\,serif\;"><span style="font-size: 20pt\;">Washington</span></span></span><br />\n&nbsp\;<br />\n<span style="color: black\;"><span style="font-family: palatino linotype\,serif\;"><span style="font-size: 14pt\;">4-player team-Scramble Format</span></span></span><br />\n<span style="color: black\;"><span style="font-family: palatino linotype\,serif\;"><span style="font-size: 14pt\;">Registration - 11:00 am</span></span></span><br />\n<span style="color: black\;"><span style="font-family: palatino linotype\,serif\;"><span style="font-size: 14pt\;">Shotgun start at 12:30</span></span></span><br />\n<strong><span style="color: black\;"><span style="font-family: palatino linotype\,serif\;"><span style="font-size: 14pt\;">Box lunch\, 18 holes of golf\, Buffalo Wild Wings Sliders &amp\; much more!</span></span></span></strong><br />\n&nbsp\;<br />\n<strong><em><span style="color: black\;"><span style="font-family: bookman old style\,serif\;">For more info call (309)-925-2061 x 269!</span></span></em></strong><br />\n<strong><em><span style="color: black\;"><span style="font-family: bookman old style\,serif\;">Or visit www.tcrcorg.com</span></span></em></strong><br />\n&nbsp\;
LOCATION:Quail Meadows Golf Course\, 2215 Centennial Drive\, Washington
UID:e.526.3124
SEQUENCE:3
DTSTAMP:20260424T110841Z
URL:https://business.epcc.org/events/details/tcrc-annual-charity-golf-classic-06-15-2016-3124
END:VEVENT

END:VCALENDAR
