BEGIN:VCALENDAR
VERSION:2.0
PRODID:-//ChamberMaster//Event Calendar 2.0//EN
METHOD:PUBLISH
X-PUBLISHED-TTL:P3D
REFRESH-INTERVAL:P3D
CALSCALE:GREGORIAN
BEGIN:VEVENT
DTSTART:20161207T230000Z
DTEND:20161208T050000Z
X-MICROSOFT-CDO-ALLDAYEVENT:FALSE
SUMMARY:Team Trivia and Open Stage Night
DESCRIPTION:Free admission and free to play! Drink Specials and some great local talent!
X-ALT-DESC;FMTTYPE=text/html:<span style="color: rgb(75\, 79\, 86)\; font-family: helvetica\,arial\,sans-serif\; font-size: 14px\; background-color: rgb(255\, 255\, 255)\;">Free admission and free to play! Drink Specials and some great local talent!</span>
LOCATION:Limelight Eventplex
UID:e.526.3292
SEQUENCE:3
DTSTAMP:20260422T170110Z
URL:https://business.epcc.org/events/details/team-trivia-and-open-stage-night-3292
END:VEVENT

END:VCALENDAR
