BEGIN:VCALENDAR
VERSION:2.0
PRODID:-//ChamberMaster//Event Calendar 2.0//EN
METHOD:PUBLISH
X-PUBLISHED-TTL:P3D
REFRESH-INTERVAL:P3D
CALSCALE:GREGORIAN
BEGIN:VEVENT
DTSTART:20141003T180000Z
DTEND:20141003T220000Z
X-MICROSOFT-CDO-ALLDAYEVENT:FALSE
SUMMARY:Tech Day 2014 - Sponsored by Pearl Technology
DESCRIPTION:The future of your business relies on the steady growth and expansion of technology and your ability to progress along with it. Don't miss the opportunity to learn about current and future technology trends and network with our leading information technology partners at Tech Day.\n\nPresentations will begin at 1:30 p.m. and wrap up around 3:30 p.m. with a local FBI Special Agent\, presenting on cyber security. Among our partners attending will be CISCO\, Mimecast\, Nimble\, Palo Alto\, Aruba\, Software One and Odessian.\n\nFood and drinks will be provided. BBQ Pitmaster and President of Pearl Technology\, Dave Johnson\, will be serving his famous barbeque.  If you are an IT Director / Manager\, Executive or Business Owner\, this event is for you.  Visit us online to register and to view the full schedule of events.
X-ALT-DESC;FMTTYPE=text/html:<p><span class="fsl">The future of your business relies on the steady growth and expansion of technology and your ability to progress along with it. Don&rsquo\;t miss the opportunity to learn about current and future technology trends and network with our leading information technology&nbsp\;partners at Tech Day.</span></p>\n\n<p>Presentations will begin at 1:30 p.m. and wrap up around 3:30 p.m. with a local FBI Special Agent\, presenting on cyber security. Among&nbsp\;our partners&nbsp\;attending will be CISCO\, Mimecast\, Nimble\, Palo Alto\, Aruba\, Software One and Odessian.</p>\n\n<p>Food and drinks will be provided. BBQ Pitmaster and President of Pearl Technology\, Dave Johnson\, will be serving his famous barbeque.&nbsp\; If you are an IT Director / Manager\, Executive or Business Owner\, this event is for you.&nbsp\; Visit us online to register and to view the full schedule of events.</p>\n
LOCATION:Autohaus of Peoria 2322 W Van Winkle Way Peoria\, IL 61615
UID:e.526.1163
SEQUENCE:3
DTSTAMP:20260425T151921Z
URL:https://business.epcc.org/events/details/tech-day-2014-sponsored-by-pearl-technology-10-03-2014-1163
END:VEVENT

END:VCALENDAR
