BEGIN:VCALENDAR
VERSION:2.0
PRODID:-//ChamberMaster//Event Calendar 2.0//EN
METHOD:PUBLISH
X-PUBLISHED-TTL:P3D
REFRESH-INTERVAL:P3D
CALSCALE:GREGORIAN
BEGIN:VEVENT
DTSTART:20161028T170000Z
DTEND:20161028T220000Z
X-MICROSOFT-CDO-ALLDAYEVENT:FALSE
SUMMARY:Tech Day 2016 - Sponsored by Pearl Technology
DESCRIPTION:Tech Day is a business event for IT professionals to learn the latest and greatest software and hardware products for your organization. Talk one-on-one with vendors and learn about new technology trends during the breakout sessions. Noon: Lunch & Networking 1pm: Breakout sessions begin
X-ALT-DESC;FMTTYPE=text/html:Tech Day is a business event for IT professionals to learn the latest and greatest software and hardware products for your organization. Talk one-on-one with vendors and learn about new technology trends during the breakout sessions. Noon: Lunch &amp\; Networking 1pm: Breakout sessions begin
LOCATION:Heartland Community College 1500 W. Rabb Rd. Room: CCB 1406 & 1407 Normal\, IL 61761
UID:e.526.3243
SEQUENCE:3
DTSTAMP:20260422T183131Z
URL:https://business.epcc.org/events/details/tech-day-2016-sponsored-by-pearl-technology-3243
END:VEVENT

END:VCALENDAR
