BEGIN:VCALENDAR
VERSION:2.0
PRODID:-//ChamberMaster//Event Calendar 2.0//EN
METHOD:PUBLISH
X-PUBLISHED-TTL:P3D
REFRESH-INTERVAL:P3D
CALSCALE:GREGORIAN
BEGIN:VEVENT
DTSTART:20181009T230000Z
DTEND:20181010T010000Z
X-MICROSOFT-CDO-ALLDAYEVENT:FALSE
SUMMARY:Teen Challenge 2018 Fall Banquet - Celebrating 60 Years of Miracles
DESCRIPTION:"Celebrating 60 Years of Miracles" \n\nis the theme for the 2018 \n\nTeen Challenge Fall Banquet\n\n \n\nNicky Cruz\, former Warlord of the Mau Maus gang in New York\, will be the keynote speaker.\n\n\n\nSpecial Guest\, Joe Everson\, will sing the National Anthem while painting the raising of the flag on Iwo Jima.  The painting and an additional painting will be auctioned.\n\n\n\nIndividual Tickets are $40\, a table of ten is $400
X-ALT-DESC;FMTTYPE=text/html:<div style="text-align: center\;"><br />\n<span style="text-align: center\; background-image: initial\; background-position: initial\; background-size: initial\; background-repeat: initial\; background-attachment: initial\; background-origin: initial\; background-clip: initial\;"><span style="font-family: arial\, sans-serif\;"><span style="font-size: 12pt\;">&quot\;</span></span></span><strong><span style="font-family: arial\, sans-serif\;"><span style="font-size: 12pt\;">Celebrating 60 Years of Miracles</span></span></strong><span style="text-align: center\; background-image: initial\; background-position: initial\; background-size: initial\; background-repeat: initial\; background-attachment: initial\; background-origin: initial\; background-clip: initial\;"><span style="font-family: arial\, sans-serif\;"><span style="font-size: 12pt\;"><span style="text-align: start\;">&quot\;&nbsp\;</span></span></span></span><br style="text-align: center\;" />\n<span style="text-align: center\; background-image: initial\; background-position: initial\; background-size: initial\; background-repeat: initial\; background-attachment: initial\; background-origin: initial\; background-clip: initial\;"><span style="font-family: arial\, sans-serif\;"><span style="font-size: 10pt\;">is the theme for the 2018&nbsp\;</span></span></span><br style="text-align: center\;" />\n<strong style="text-align: center\;"><span style="background-image: initial\; background-position: initial\; background-size: initial\; background-repeat: initial\; background-attachment: initial\; background-origin: initial\; background-clip: initial\;"><span style="font-family: arial\, sans-serif\;"><span style="font-size: 12pt\;">Teen Challenge Fall Banquet<br />\n&#8203\;</span></span></span></strong><br style="text-align: center\;" />\n<span style="text-align: center\; background-image: initial\; background-position: initial\; background-size: initial\; background-repeat: initial\; background-attachment: initial\; background-origin: initial\; background-clip: initial\;"><span style="font-family: arial\, sans-serif\;"><span style="font-size: 10pt\;">Nicky Cruz\, former Warlord of the Mau Maus gang in New York\, will be the keynote speaker.</span></span></span><br />\n<br style="text-align: center\;" />\n<span style="text-align: center\; font-family: arial\, sans-serif\;"><span style="font-size: 10pt\;">Special Guest<strong>\,&nbsp\;</strong>Joe Everson\, will sing the National Anthem while painting the raising of the flag on Iwo Jima.&nbsp\; The painting and an additional painting will be auctioned.</span></span><br />\n<br style="text-align: center\;" />\n<strong style="text-align: center\;"><span style="font-family: arial\, sans-serif\;"><span style="font-size: 12pt\;">Individual Tickets are $40\, a table of ten is $400</span></span></strong></div>\n
LOCATION:Peoria Civic Center Ballroom 201 SW Jefferson Ave. Peoria\, IL 61602
UID:e.526.5552
SEQUENCE:3
DTSTAMP:20260421T053932Z
URL:https://business.epcc.org/events/details/teen-challenge-2018-fall-banquet-celebrating-60-years-of-miracles-5552
END:VEVENT

END:VCALENDAR
