BEGIN:VCALENDAR
VERSION:2.0
PRODID:-//ChamberMaster//Event Calendar 2.0//EN
METHOD:PUBLISH
X-PUBLISHED-TTL:P3D
REFRESH-INTERVAL:P3D
CALSCALE:GREGORIAN
BEGIN:VEVENT
DTSTART:20140925T230000Z
DTEND:20140926T010000Z
X-MICROSOFT-CDO-ALLDAYEVENT:FALSE
SUMMARY:Teen Challenge Fall Banquet
DESCRIPTION:Men of Destiny\n\nFeatured Speaker:\n\nDr. Jerry Nance \n\nGlobal Teen Challenge President\n\nSpecial Music:\n\nPeoria Pops Orchestra\n\nSoloist:\n\nJonna Harkness\n\nHarvest Bible Chapel\n\nFor Ticket Information & Pricing:\n\n309-673-3716\n\nwww.teenchallengepeoria.org
X-ALT-DESC;FMTTYPE=text/html:<strong>Men of Destiny</strong><br />\n<u>Featured Speaker:</u><br />\n<strong>Dr. Jerry Nance&nbsp\;</strong><br />\nGlobal Teen Challenge President<br />\n<u>Special Music:</u><br />\n<strong>Peoria Pops Orchestra</strong><br />\n<u>Soloist:</u><br />\n<strong>Jonna Harkness</strong><br />\nHarvest Bible Chapel<br />\n<u>For Ticket Information &amp\; Pricing:</u><br />\n<strong>309-673-3716<br />\nwww.teenchallengepeoria.org</strong><br />\n&nbsp\;
LOCATION:Embassy Suites\, East Peoria
UID:e.526.1168
SEQUENCE:3
DTSTAMP:20260425T185845Z
URL:https://business.epcc.org/events/details/teen-challenge-fall-banquet-09-25-2014-1168
END:VEVENT

END:VCALENDAR
