BEGIN:VCALENDAR
VERSION:2.0
PRODID:-//ChamberMaster//Event Calendar 2.0//EN
METHOD:PUBLISH
X-PUBLISHED-TTL:P3D
REFRESH-INTERVAL:P3D
CALSCALE:GREGORIAN
BEGIN:VEVENT
DTSTART:20160111T220000Z
DTEND:20160112T010000Z
X-MICROSOFT-CDO-ALLDAYEVENT:FALSE
SUMMARY:Teens - Get Hands-On Work Experience at Goodwill
DESCRIPTION:The Retail Project allows teens to learn skills to put on resumes or job applications. All program graduates receive a free professional outfit\, perfect for wearing to interviews. Must be 14-18 years old and be able to work 3 hours a day for one week (5 days). The Washington store session is January 11-15\, 2016 at 4:00-7:00 p.m.
X-ALT-DESC;FMTTYPE=text/html:The Retail Project allows teens to learn skills to put on resumes or job applications. All program graduates receive a free professional outfit\, perfect for wearing to interviews. Must be 14-18 years old and be able to work 3 hours a day for one week (5 days). The Washington store session is January 11-15\, 2016 at 4:00-7:00 p.m.
LOCATION:Goodwill Store\, 301 N. Cummings Lane\, Washington\, IL 61571
UID:e.526.2883
SEQUENCE:3
DTSTAMP:20260424T175900Z
URL:https://business.epcc.org/events/details/teens-get-hands-on-work-experience-at-goodwill-01-11-2016-2883
END:VEVENT

END:VCALENDAR
