BEGIN:VCALENDAR
VERSION:2.0
PRODID:-//ChamberMaster//Event Calendar 2.0//EN
METHOD:PUBLISH
X-PUBLISHED-TTL:P3D
REFRESH-INTERVAL:P3D
CALSCALE:GREGORIAN
BEGIN:VEVENT
DTSTART:20151112T173000Z
DTEND:20151112T190000Z
X-MICROSOFT-CDO-ALLDAYEVENT:FALSE
SUMMARY:Telehealth: Transforming Health Care Through Innovation
DESCRIPTION:Join us for the latest information on how virtual health care is being delivered in many ways... 24 hour urgent care... Telewellness and other innovation ways of care delivery.
X-ALT-DESC;FMTTYPE=text/html:Join us for the latest information on how virtual health care is being delivered in many ways... 24 hour urgent care... Telewellness and other innovation ways of care delivery.&nbsp\;
LOCATION:Jump Trading Simulation and Education Center 1306 N. Berkeley Ave.\, Peoria IL
UID:e.526.2823
SEQUENCE:3
DTSTAMP:20260424T205104Z
URL:https://business.epcc.org/events/details/telehealth-transforming-health-care-through-innovation-11-12-2015-2823
END:VEVENT

END:VCALENDAR
