BEGIN:VCALENDAR
VERSION:2.0
PRODID:-//ChamberMaster//Event Calendar 2.0//EN
METHOD:PUBLISH
X-PUBLISHED-TTL:P3D
REFRESH-INTERVAL:P3D
CALSCALE:GREGORIAN
BEGIN:VEVENT
DTSTART:20190424T233000Z
DTEND:20190425T010000Z
X-MICROSOFT-CDO-ALLDAYEVENT:FALSE
SUMMARY:The Arrow of Vaccine Time
DESCRIPTION:Vaccination is credited as one of the most successful public health initiatives ever\, yet the growth of vaccine hesitancy is now identified as one of the top 10 threats to global health in 2019 by the World Health Organization.  \n\n \n\nJoin Chief of Pediatric Infectious Diseases and published author Gary S. Marshall\, MD as he discusses the modern history of vaccinations\, technological revolutions and what lies ahead. Marshall is Professor of Pediatrics at the University of Louisville School of Medicine and is author of "The Vaccine Handbook: A Practical Guide for Clinicians" (also known as "The Purple Book\,") now in its 7th edition and available through an app. \n\n\n\nFree and open to the public\, the event is presented as part of the Hart Endowed Lectureship and sponsored by the University of Illinois College of Medicine Peoria and Children's Hospital of Illinois.  \n\n \n\nThe Robert D. Hart\, MD Endowed Lectureship was established in 2002 to honor the late Dr. Hart for his distinguished medical career as a pediatrician. Income from this fund enables prominent scholars to enhance training and education of medical students\, residents\, practicing physicians\, and the community.  \n\n \n\nThe University of Illinois College of Medicine Peoria (UICOMP) educates 244 medical students and nearly 300 physician residents annually. The College of Medicine is home to the Cancer Research Center\, the Center for Outcomes Research\, and a collaborator in Jump Simulation. \n\n\n\nRegister at http://go.uic.edu/hart or with Chanel at crw@uic.edu\; 6554746.
X-ALT-DESC;FMTTYPE=text/html:Vaccination is credited as one of the most successful public health initiatives ever\, yet the growth of vaccine hesitancy is now identified as one of the top 10 threats to global health in 2019 by the World Health Organization.&nbsp\;&nbsp\;<br />\n&nbsp\;<br />\nJoin Chief of Pediatric Infectious Diseases and published author Gary S. Marshall\, MD as he discusses the modern history of vaccinations\, technological revolutions and what lies ahead. Marshall is Professor of Pediatrics at the University of Louisville School of Medicine and is author of &ldquo\;The Vaccine Handbook: A Practical Guide for Clinicians&rdquo\; (also known as &ldquo\;The Purple Book\,&rdquo\;) now in its 7th edition and available through an app.&nbsp\;<br />\n<br />\nFree and open to the public\, the event is presented as part of the Hart Endowed Lectureship and sponsored by the University of Illinois College of Medicine Peoria and Children&rsquo\;s Hospital of Illinois.&nbsp\;&nbsp\;<br />\n&nbsp\;<br />\nThe Robert D. Hart\, MD Endowed Lectureship was established in 2002 to honor the late Dr. Hart for his distinguished medical career as a pediatrician. Income from this fund enables prominent scholars to enhance training and education of medical students\, residents\, practicing physicians\, and the community.&nbsp\;&nbsp\;<br />\n&nbsp\;<br />\nThe University of Illinois College of Medicine Peoria (UICOMP) educates 244 medical students and nearly 300 physician residents annually. The College of Medicine is home to the Cancer Research Center\, the Center for Outcomes Research\, and a collaborator in Jump Simulation.&nbsp\;<br />\n<br />\nRegister at http://go.uic.edu/hart or with Chanel at crw@uic.edu\; 6554746.
LOCATION:Jump Simulation 1306 N. Berkeley Ave
UID:e.526.6008
SEQUENCE:3
DTSTAMP:20260420T183447Z
URL:https://business.epcc.org/events/details/the-arrow-of-vaccine-time-6008
END:VEVENT

END:VCALENDAR
