BEGIN:VCALENDAR
VERSION:2.0
PRODID:-//ChamberMaster//Event Calendar 2.0//EN
METHOD:PUBLISH
X-PUBLISHED-TTL:P3D
REFRESH-INTERVAL:P3D
CALSCALE:GREGORIAN
BEGIN:VEVENT
DTSTART:20181114T160000Z
DTEND:20181114T180000Z
X-MICROSOFT-CDO-ALLDAYEVENT:FALSE
SUMMARY:The Art of Financing Your Dream
DESCRIPTION:The Peoria Chapter of SCORE is offering a FREE workshop\n\n  "The Art of Financing Your Dream"  \n \n\n\n\nPresented by Cesar Suarez\, Senior Development Specialist for the City of Peoria.\n\nCreating your business is one thing: financing it is another. At this workshop you will learn how to:\n\n\n	Prepare a proposal that defines your market opportunity and financial need.\n	Develop financing strategies based on your current/projected resources.\n	Learn about available funding sources\, from micro-loans to large-scale.\n\n\nPlease join us for this informative workshop!!!\n \n\nThis workshop is FREE\, but registration is required.\n\nCall Peoria SCORE at 309-676-0755 or register online by clicking here.
X-ALT-DESC;FMTTYPE=text/html:<div style="text-align: center\;"><span style="font-size:14px"><span style="font-family:arial\,helvetica\,sans-serif">The Peoria Chapter of SCORE is offering a <strong><em><u>FREE</u></em></strong> workshop</span></span><br />\n<strong><span style="font-size:18px"><span style="font-family:arial\,helvetica\,sans-serif">&ndash\; &ldquo\;The Art of Financing Your Dream&rdquo\; &ndash\;</span></span></strong></div>\n&nbsp\;<br />\n<br />\n<span style="font-size:14px"><span style="font-family:arial\,helvetica\,sans-serif">Presented by Cesar Suarez\, Senior Development Specialist for the City of Peoria.<br />\nCreating your business is one thing: financing it is another. At this workshop you will learn how to:</span></span>\n\n<ul>\n	<li><span style="font-size:14px"><span style="font-family:arial\,helvetica\,sans-serif">Prepare a proposal that defines your market opportunity and financial need.</span></span></li>\n	<li><span style="font-size:14px"><span style="font-family:arial\,helvetica\,sans-serif">Develop financing strategies based on your current/projected resources.</span></span></li>\n	<li><span style="font-size:14px"><span style="font-family:arial\,helvetica\,sans-serif">Learn about available funding sources\, from micro-loans to large-scale.</span></span></li>\n</ul>\n\n<div style="text-align: center\;"><span style="font-size:14px"><span style="font-family:arial\,helvetica\,sans-serif">Please join us for this informative workshop!!!</span></span></div>\n<span style="font-size:14px"><span style="font-family:arial\,helvetica\,sans-serif">&nbsp\;</span></span>\n\n<div style="text-align: center\;"><span style="font-size:14px"><span style="font-family:arial\,helvetica\,sans-serif">This workshop is FREE\, but registration is required.<br />\nCall Peoria SCORE at 309-676-0755 or register online by <a href="http://conta.cc/2EGAH2t" target="_blank">clicking here</a><a href="https://events.r20.constantcontact.com/register/eventReg?oeidk=a07ef4shgip3597e91b&amp\;oseq=&amp\;c=&amp\;ch=">.</a></span></span></div>\n
LOCATION:Peoria Chamber of Commerce Conference Room 403 N. E. Jefferson St. Peoria\, IL 61603
UID:e.526.5684
SEQUENCE:3
DTSTAMP:20260421T040019Z
URL:https://business.epcc.org/events/details/the-art-of-financing-your-dream-5684
END:VEVENT

END:VCALENDAR
