BEGIN:VCALENDAR
VERSION:2.0
PRODID:-//ChamberMaster//Event Calendar 2.0//EN
METHOD:PUBLISH
X-PUBLISHED-TTL:P3D
REFRESH-INTERVAL:P3D
CALSCALE:GREGORIAN
BEGIN:VEVENT
DTSTART:20170211T150000Z
DTEND:20170211T230000Z
X-MICROSOFT-CDO-ALLDAYEVENT:FALSE
SUMMARY:The Business of Art
DESCRIPTION:The Business of Art is a one day event designed to connect entrepreneurial artists with business professionals who can help them navigate the world of business. Through seminars and networking\, The Business of Art will assist artists of all disciplines with establishing or enhancing their businesses.This year you can attend 3 breakout sessions.\n\n\n\nTwo of the nine speakers are members of the East Peoria Chamber:\n\n\n\nRoss Miller\, the Director of the Technology Commercialization Center\, part of the IL SBDC at Bradley University\, will be hosting the sessions "Artist to Entrepreneur: Starting a Business" at 10am & 2:15pm and "Customers Buy Benefits" at 12:45pm and Tammy Finch\, owner of Web Tech Services\, will be hosting the session "The Art of Email Marketing - The Power of the Inbox" at 12:45pm & 2:15pm.\n\n(Check out the website for a list of all the speakers and sessions)\n\n\n\nAttendees will be able to sign up for a one-on-one\, 15 minute session with a SCORE representative on the day of the event. Score provides advice\, through educational workshops and personalized free confidential counseling\, to those who want to start-up their own business or those who want to develop their existing small business.
X-ALT-DESC;FMTTYPE=text/html:The Business of Art is a one day event designed to connect entrepreneurial artists with business professionals who can help them navigate the world of business. Through seminars and networking\, The Business of Art will assist artists of all disciplines with establishing or enhancing their businesses.This year you can attend 3 breakout sessions.<br />\n<br />\nTwo of the nine speakers are members of the East Peoria Chamber:<br />\n<br />\n<u>Ross Miller</u>\, the Director of the Technology Commercialization Center\, part of the IL SBDC at Bradley University\, will be hosting the sessions &quot\;Artist to Entrepreneur: Starting a Business&quot\; at 10am &amp\; 2:15pm and &quot\;Customers Buy Benefits&quot\; at 12:45pm and <u>Tammy Finch</u>\, owner of Web Tech Services\, will be hosting the session &quot\;The Art of Email Marketing - The Power of the Inbox&quot\; at 12:45pm &amp\; 2:15pm.<br />\n(Check out the website for a list of all the speakers and sessions)<br />\n<br />\nAttendees will be able to sign up for a one-on-one\, 15 minute session with a SCORE representative on the day of the event. Score provides advice\, through educational workshops and personalized free confidential counseling\, to those who want to start-up their own business or those who want to develop their existing small business.
LOCATION:Life Together Center 3625 N. Sheridan Rd. Peoria\, IL 61604
UID:e.526.3729
SEQUENCE:3
DTSTAMP:20260422T124423Z
URL:https://business.epcc.org/events/details/the-business-of-art-3729
END:VEVENT

END:VCALENDAR
