BEGIN:VCALENDAR
VERSION:2.0
PRODID:-//ChamberMaster//Event Calendar 2.0//EN
METHOD:PUBLISH
X-PUBLISHED-TTL:P3D
REFRESH-INTERVAL:P3D
CALSCALE:GREGORIAN
BEGIN:VEVENT
DTSTART:20150917T210000Z
DTEND:20150917T223000Z
X-MICROSOFT-CDO-ALLDAYEVENT:FALSE
SUMMARY:The College Game Teen Workshop
DESCRIPTION:Tired of spending hours studying\, just to forget everything at test time? Learn tons of tips\, tricks and shortcuts to save you time and improve your grades. For ages 11-17.
X-ALT-DESC;FMTTYPE=text/html:Tired of spending hours studying\, just to forget everything at test time? Learn tons of tips\, tricks and shortcuts to save you time and improve your grades. For ages 11-17.
LOCATION:Goodwill Commons\, 2319 E. War Memorial Dr.\, Peoria\, IL 61614
UID:e.526.1747
SEQUENCE:3
DTSTAMP:20260425T003130Z
URL:https://business.epcc.org/events/details/the-college-game-teen-workshop-09-17-2015-1747
END:VEVENT

END:VCALENDAR
