BEGIN:VCALENDAR
VERSION:2.0
PRODID:-//ChamberMaster//Event Calendar 2.0//EN
METHOD:PUBLISH
X-PUBLISHED-TTL:P3D
REFRESH-INTERVAL:P3D
CALSCALE:GREGORIAN
BEGIN:VEVENT
DTSTART:20231212T180000Z
DTEND:20231212T200000Z
X-MICROSOFT-CDO-ALLDAYEVENT:FALSE
SUMMARY:The Cybersecurity You Need to Win Your Next Government Contract Webinar
DESCRIPTION:A kickoff from hosts: Turner Center for Entrepreneurship\,  Illinois APEX Accelerator at Bradley University and Department of the Air Force/Space Force CISO's Blue Cyber Initiative.\n\n \n\nA special 2-hour session of Blue Cyber. The Blue Cyber Director\, Kelley Kiernan and technical experts will cover the 15 security requirements in the FAR 52.204-21 (and the Proposed DoD CMMC Level 1) which comprise basic cyber hygiene for any small business. The target audience is small businesses of any type\, with or without government contracts. Every small business is welcome!  Join us for this no fee webinar.  Open to the Public.\n\n \n\nGet Ready by reading this guidance\n\ndocument:\n\nhttps://dodcio.defense.gov/Portals/0/Documents/CMMC/AG_Level1_V2.0_FinalDraft_20211210_508.pdf\n\n \n\nSpeaker:\n\nKelley Kiernan is the Director of the Department of the Air Force/ Space Force\, Chief Information Security Officer's Blue Cyber Initiative for Small Business cybersecurity. Kelley Kiernan is a cybersecurity and small business ecosystem leader\, who applies her experience in industry\, NASA\, and as an Air Force officer/pilot/engineer/scientist to pave the way for small business innovation. A graduate of the U.S. Air Force Academy and a certified cybersecurity professional\, Kelley's champion leadership brings robust cybersecurity within the reach of current and future Department of Defense contractors.
X-ALT-DESC;FMTTYPE=text/html:<strong><span style="font-size:12.0pt">A kickoff from hosts: </span></strong><strong><span style="font-size:12.0pt">Turner Center for Entrepreneurship\,</span></strong><strong><span style="font-size:12.0pt"> &nbsp\;</span></strong><strong><span style="font-family:times new roman\,serif"><span style="font-size:12.0pt">Illinois APEX Accelerator at&nbsp\;Bradley University and <span style="color:black">Department of the Air Force/Space Force CISO&rsquo\;s Blue Cyber Initiative.</span></span></span></strong><br />\n&nbsp\;<br />\n<span style="font-family:times new roman\,serif"><span style="font-size:12.0pt">A special 2-hour session of Blue Cyber. The Blue Cyber Director\, Kelley Kiernan and technical experts will cover the 15 security requirements in the FAR 52.204-21 (and the Proposed DoD CMMC Level 1) which comprise basic cyber hygiene for any small business. The target audience is small businesses of any type\, with or without government contracts. Every small business is welcome!&nbsp\;&nbsp\;Join us for this no fee webinar.&nbsp\; Open to the Public.</span></span><br />\n&nbsp\;<br />\n<strong><span style="font-family:times new roman\,serif"><span style="font-size:12.0pt">Get Ready by reading this guidance</span></span></strong><br />\n<strong><span style="font-family:times new roman\,serif"><span style="font-size:12.0pt">document:</span></span></strong><br />\n<a href="https://dodcio.defense.gov/Portals/0/Documents/CMMC/AG_Level1_V2.0_FinalDraft_20211210_508.pdf"><span style="font-family:times new roman\,serif"><span style="font-size:12.0pt">https://dodcio.defense.gov/Portals/0/Documents/CMMC/AG_Level1_V2.0_FinalDraft_20211210_508.pdf</span></span></a><br />\n&nbsp\;<br />\n<strong><span style="font-family:times new roman\,serif"><span style="font-size:12.0pt">Speaker:</span></span></strong><br />\n<strong><span style="font-family:times new roman\,serif"><span style="font-size:12.0pt">Kelley Kiernan</span></span></strong><span style="font-family:times new roman\,serif"><span style="font-size:12.0pt"> is the Director of the Department of the Air Force/ Space Force\, Chief Information Security Officer&rsquo\;s Blue Cyber Initiative for Small Business cybersecurity. Kelley Kiernan is a cybersecurity and small business ecosystem leader\, who applies her experience in industry\, NASA\, and as an Air Force officer/pilot/engineer/scientist to pave the way for small business innovation. A graduate of the U.S. Air Force Academy and a certified cybersecurity professional\, Kelley&rsquo\;s champion leadership brings robust cybersecurity within the reach of current and future Department of Defense contractors.</span></span><br />\n&nbsp\;
LOCATION:Webinar
UID:e.526.7353
SEQUENCE:3
DTSTAMP:20260422T050003Z
URL:https://business.epcc.org/events/details/the-cybersecurity-you-need-to-win-your-next-government-contract-webinar-7353
END:VEVENT

END:VCALENDAR
