BEGIN:VCALENDAR
VERSION:2.0
PRODID:-//ChamberMaster//Event Calendar 2.0//EN
METHOD:PUBLISH
X-PUBLISHED-TTL:P3D
REFRESH-INTERVAL:P3D
CALSCALE:GREGORIAN
BEGIN:VEVENT
DTSTART:20190502T194500Z
DTEND:20190502T220000Z
X-MICROSOFT-CDO-ALLDAYEVENT:FALSE
SUMMARY:The DBE (Disadvantaged Business Enterprise) Certification Process
DESCRIPTION:DBEs are for-profit small businesses where socially and economically disadvantaged individuals own at least a 51% interest and also control management and daily business operations.  Learn why you should obtain your DBE Certification and how to avoid your application being denied.
X-ALT-DESC;FMTTYPE=text/html:<span style="background-color:transparent\; color:rgb(0\, 0\, 0)\; font-family:verdana\,tahoma\,dejavu sans\,sans-serif">DBEs are for-profit small businesses where socially and economically disadvantaged individuals own at least a 51% interest and also control management and daily business operations</span><span style="background-color:transparent\; color:rgb(34\, 34\, 34)\; font-family:calibri\,sans-serif\; font-size:11pt">.&nbsp\;&nbsp\;</span><span style="background-color:transparent\; color:rgb(34\, 34\, 34)\; font-family:arial\,helvetica\,sans-serif\; font-size:small">L</span><span style="background-color:transparent\; color:rgb(34\, 34\, 34)\; font-family:arial\,helvetica\,sans-serif\; font-size:small">earn why you should obtain your DBE Certification&nbsp\;and how to avoid your application being denied.</span>
LOCATION:Peoria NEXT Innovation Center\, 801 West Main Street\, Peoria
UID:e.526.5997
SEQUENCE:3
DTSTAMP:20260420T183129Z
URL:https://business.epcc.org/events/details/the-dbe-disadvantaged-business-enterprise-certification-process-5997
END:VEVENT

END:VCALENDAR
