BEGIN:VCALENDAR
VERSION:2.0
PRODID:-//ChamberMaster//Event Calendar 2.0//EN
METHOD:PUBLISH
X-PUBLISHED-TTL:P3D
REFRESH-INTERVAL:P3D
CALSCALE:GREGORIAN
BEGIN:VEVENT
DTSTART:20230819T130000Z
DTEND:20230819T170000Z
X-MICROSOFT-CDO-ALLDAYEVENT:FALSE
SUMMARY:The EP!C 5K
DESCRIPTION:Join us for an EP!C 5k.\n\nWhether you run\, walk\, or roll this EP!C 5k will start and end at EP!C\, take you down University and connect to the picturesque Rock Island Trail.\n\nJoin us after for a parking lot party with some of our sponsors.\n\nPacket Pickup Friday\, August 18th at RC Outfitters (311 Southwest Water Street) from 2PM-6PM or 1 hour before race time on the 19th.\n\nCheck-In starts at 8AM\n\nRace starts at 9AM\n\nAwards for Mens\, Womens\, & Para Athlete Top 3\n\nTiming and registration managed through ShaZam Racing - Register here: https://bit.ly/EPIC5K23\n\nRegister before August 4th to guarantee a race day shirt
X-ALT-DESC;FMTTYPE=text/html:<div>Join us for an EP!C 5k.</div>\n\n<div>Whether you run\, walk\, or roll this EP!C 5k will start and end at EP!C\, take you down University and connect to the picturesque Rock Island Trail.</div>\n\n<div>Join us after for a parking lot party with some of our sponsors.</div>\n\n<div>Packet Pickup Friday\, August 18th at RC Outfitters (311 Southwest Water Street) from 2PM-6PM or 1 hour before race time on the 19th.</div>\n\n<div>Check-In starts at 8AM</div>\n\n<div>Race starts at 9AM</div>\n\n<div>Awards for Mens\, Womens\, &amp\; Para Athlete Top 3</div>\n\n<div>Timing and registration managed through ShaZam Racing - Register here:&nbsp\;<a class="x1i10hfl xjbqb8w x6umtig x1b1mbwd xaqea5y xav7gou x9f619 x1ypdohk xt0psk2 xe8uvvx xdj266r x11i5rnm xat24cr x1mh8g0r xexx8yu x4uap5 x18d9i69 xkhd6sd x16tdsg8 x1hl2dhg xggy1nq x1a2a7pz xt0b8zv x1fey0fg" href="https://l.facebook.com/l.php?u=https%3A%2F%2Fbit.ly%2FEPIC5K23%3Ffbclid%3DIwAR3JcKaUiIntQ1MD54NyK3hA2jpzrtuv-XczObVfBVCGlW2qR_M44xtL0s8&amp\;h=AT3Ja1rcAIwXG8kUERMKy9DbjZXNXY0HT2IyAQblqYpHPyg9QHjs-JcSbwyo-gbJLlMS-lX-kZ1DPkaarPh34rF8UN23Ac-oznGBOFZ9OuTcxX_fecyhBzR4akgUoIrKUPxz&amp\;__tn__=q&amp\;c[0]=AT0lkgLFjAMpqVQaPqjbQ34FftzRv9POfiUMCT6-yK0TtvgPzWbH6D-UBw_rDd72U9VUaTcXURw_v8KQfhJcM33WI7t5BJYr4zPMj4-sWbU8kDa4n60KXwectSDjtfoq_EFxLV_IligoaTzhnsC1MIkm4bFx" rel="nofollow noreferrer" style="cursor: pointer\; text-decoration-line: none\; border-width: 0px\; border-style: initial\; border-color: initial\; outline: none\; list-style: none\; margin: 0px\; text-align: inherit\; padding: 0px\; -webkit-tap-highlight-color: transparent\; box-sizing: border-box\; touch-action: manipulation\; background-color: transparent\; display: inline\; font-family: inherit\;" tabindex="0" target="_blank">https://bit.ly/EPIC5K23</a></div>\n\n<div>Register before August 4th to guarantee a race day shirt</div>\n
LOCATION:EP!C 1913 W Townline Rd. Peoria\, IL 61615
UID:e.526.7285
SEQUENCE:3
DTSTAMP:20260422T204305Z
URL:https://business.epcc.org/events/details/the-ep-c-5k-7285
END:VEVENT

END:VCALENDAR
