BEGIN:VCALENDAR
VERSION:2.0
PRODID:-//ChamberMaster//Event Calendar 2.0//EN
METHOD:PUBLISH
X-PUBLISHED-TTL:P3D
REFRESH-INTERVAL:P3D
CALSCALE:GREGORIAN
BEGIN:VEVENT
DTSTART:20240118T230000Z
DTEND:20240119T000000Z
X-MICROSOFT-CDO-ALLDAYEVENT:FALSE
SUMMARY:The Essential Elements of an Operating Agreement
DESCRIPTION:The Turner Center for Entrepreneurship and Illinois APEX Accelerator at Bradley University is offering this webinar at no cost to participants to learn the benefits of having an operating agreement along with what the Do's and Don'ts are. This webinar will show entrepreneurs how to structure their LLC to achieve any desired business scenario. A properly executed Operating Agreement can help ensure economic expectations are clearly established and effective in practice. An Operating Agreement should make clear what authority the managers or members have in relation to the operation of the business. Therefore\, the Operating Agreement should provide clarity so everyone's expectations are on the table going into a business and the likelihood of misunderstandings or future disputes are reduced. Co-sponsors:  Illinois SBDC\; Minority Business Development Center\, Illinois Manufacturing Excellence Center\, and Greater Peoria EDC. Registration information will be shared with training partners.\n\n \n\nDiscussion Points:\n\nWhen to choose an LLC as your business entity\n\nMember managed vs manager managed\n\nSpecify what authority members/managers have\n\nHow to address deadlocks\n\nAddress how the decisions and authority of multiple managers should be handled\n\nUnderstanding the difference between allocations and distributions\n\n \n\nWho should attend:\n\nThe topics will target a spectrum of people from those who have an idea\, to those making the leap and ready to start all the way through those who are already formed and want to make sure they are following the proper guidelines to keep themselves and their business protected and moving forward on the best path.\n\n \n\nTake away:\n\nThis training will provide the framework that will enable your business to grow and thrive if you are choosing to do business as an LLC and ensure that an LLC is the right choice for the success of your venture. Having a properly drafted operating agreement is critical as it provides a solid foundation for your business\, governing everything from management to economic expectations to the very purpose of the business itself.\n\n \n\nSpeaker:\n\n \n\nAlan Singleton is founder and Managing Partner of Singleton Law Firm. He has more than 25 years of experience working with entrepreneurs to develop legal solutions for companies at all stages of development and build their international intellectual property portfolios. Clients appreciate Alan's ability to see the big picture and give comprehensive advice with both legal and business considerations in mind.\n\nSingleton Law Firm is focused on corporate formation and transactional law (including investment rounds as well as mergers and acquisitions)\, intellectual property (technology licensing\, trademark\, and patent matters)\, and business real estate matters.
X-ALT-DESC;FMTTYPE=text/html:<span style="font-family:times new roman\,serif">The Turner Center for Entrepreneurship and Illinois APEX Accelerator at Bradley University is offering this webinar at <strong>no cost</strong> to participants to learn the benefits of having an operating agreement along with what the Do&rsquo\;s and Don&rsquo\;ts are. This webinar will show entrepreneurs how to structure their LLC to achieve any desired business scenario. A properly executed Operating Agreement can help ensure economic expectations are clearly established and effective in practice. An Operating Agreement should make clear what authority the managers or members have in relation to the operation of the business. Therefore\, the Operating Agreement should provide clarity so everyone&rsquo\;s expectations are on the table going into a business and the likelihood of misunderstandings or future disputes are reduced. Co-sponsors:&nbsp\; Illinois SBDC\; Minority Business Development Center\, Illinois Manufacturing Excellence Center\, and Greater Peoria EDC. Registration information will be shared with training partners.</span><br />\n&nbsp\;<br />\n<strong><span style="font-family:times new roman\,serif">Discussion Points</span></strong><span style="font-family:times new roman\,serif">:</span><br />\n<span style="font-family:times new roman\,serif">When to choose an LLC as your business entity</span><br />\n<span style="font-family:times new roman\,serif">Member managed vs manager managed</span><br />\n<span style="font-family:times new roman\,serif">Specify what authority members/managers have</span><br />\n<span style="font-family:times new roman\,serif">How to address deadlocks</span><br />\n<span style="font-family:times new roman\,serif">Address how the decisions and authority of multiple managers should be handled</span><br />\n<span style="font-family:times new roman\,serif">Understanding the difference between allocations and distributions</span><br />\n&nbsp\;<br />\n<strong><span style="font-family:times new roman\,serif">Who should attend:</span></strong><br />\n<span style="font-family:times new roman\,serif">The topics will target a spectrum of people from those who have an idea\, to those making the leap and ready to start all the way through those who are already formed and want to make sure they are following the proper guidelines to keep themselves and their business protected and moving forward on the best path.</span><br />\n&nbsp\;<br />\n<strong><span style="font-family:times new roman\,serif">Take away:</span></strong><br />\n<span style="font-family:times new roman\,serif">This training will provide the framework that will enable your business to grow and thrive if you are choosing to do business as an LLC and ensure that an LLC is the right choice for the success of your venture. Having a properly drafted operating agreement is critical as it provides a solid foundation for your business\, governing everything from management to economic expectations to the very purpose of the business itself.</span><br />\n&nbsp\;<br />\n<strong><span style="font-family:times new roman\,serif">Speaker</span></strong><span style="font-family:times new roman\,serif">:</span><br />\n&nbsp\;<br />\n<strong><span style="font-size:11.0pt">Alan Singleton</span></strong><span style="font-size:11.0pt"> <span style="color:black">is founder and Managing Partner of Singleton Law Firm. He has more than 25 years of experience working with entrepreneurs to develop legal solutions for companies at all stages of development and build their international intellectual property portfolios. Clients appreciate Alan&rsquo\;s ability to see the big picture and give comprehensive advice with both legal and business considerations in mind.</span></span><br />\n<span style="color:black"><span style="font-size:11.0pt">Singleton Law Firm is focused on corporate formation and transactional law (including investment rounds as well as mergers and acquisitions)\, intellectual property (technology licensing\, trademark\, and patent matters)\, and business real estate matters.</span></span>
LOCATION:webinar
UID:e.526.7356
SEQUENCE:3
DTSTAMP:20260422T022148Z
URL:https://business.epcc.org/events/details/the-essential-elements-of-an-operating-agreement-7356
END:VEVENT

END:VCALENDAR
