BEGIN:VCALENDAR
VERSION:2.0
PRODID:-//ChamberMaster//Event Calendar 2.0//EN
METHOD:PUBLISH
X-PUBLISHED-TTL:P3D
REFRESH-INTERVAL:P3D
CALSCALE:GREGORIAN
BEGIN:VEVENT
DTSTART:20190310T000000Z
DTEND:20190310T040000Z
X-MICROSOFT-CDO-ALLDAYEVENT:FALSE
SUMMARY:The Irish Setter Wake - Murder Mystery Dinner Show
DESCRIPTION:Doors open at 6:00 pm for Cast Mingle\, Dinner at 6:30\n\nPlease join us at an Irish wedding...with a twist!\n\n \n\nIn true Irish fashion\, this will be quite an Irish celebration! But beware... a lot of blarney is about\, and before the end of the night\, more than just green beer will be spilled!\n\n \n\nIt's not just a show...it's up to you to question the suspects\, look for clues\,\n\neavesdrop on conversations\, and find out who did it!  Just beware!\n\nThe killer is hiding somewhere in the room!\n\n\n\nEast Port Banquet Center * 703 Mariners Way\n\nCall 309-692-3990 for reservations
X-ALT-DESC;FMTTYPE=text/html:Doors open at 6:00 pm for Cast Mingle\, Dinner at 6:30<br />\n<span style="color:rgb(0\, 128\, 0)\; font-family:sans-serif\,arial\,verdana\,trebuchet ms\; font-size:13px"><span style="font-size:20px"><strong><span style="font-family:georgia\,serif">Please join us at an Irish wedding...with a twist!</span></strong></span></span><br />\n<span style="background-color:rgb(255\, 255\, 255)\; color:rgb(51\, 51\, 51)\; font-family:sans-serif\,arial\,verdana\,trebuchet ms\; font-size:13px">&nbsp\;</span><br />\n<span style="color:rgb(51\, 51\, 51)\; font-family:sans-serif\,arial\,verdana\,trebuchet ms\; font-size:18px"><span style="font-family:tahoma">In true Irish fashion\, this will be quite an Irish celebration! But beware... a lot of blarney is about\, and before the end of the night\, more than just green beer will be spilled!<br />\n&nbsp\;<br />\nIt&#39\;s not just a show...it&#39\;s up to you to question the suspects\, look for clues\,<br />\neavesdrop on conversations\, and find out who did it!&nbsp\; Just beware!<br />\nThe killer is hiding somewhere in the room!</span></span><br />\n<br />\nEast Port Banquet Center * 703 Mariners Way<br />\nCall 309-692-3990 for reservations
LOCATION:East Port Banquet & Meeting Center 703 Mariners Way\, East Peoria
UID:e.526.5960
SEQUENCE:3
DTSTAMP:20260420T201307Z
URL:https://business.epcc.org/events/details/the-irish-setter-wake-murder-mystery-dinner-show-03-09-2019-5960
END:VEVENT

END:VCALENDAR
