BEGIN:VCALENDAR
VERSION:2.0
PRODID:-//ChamberMaster//Event Calendar 2.0//EN
METHOD:PUBLISH
X-PUBLISHED-TTL:P3D
REFRESH-INTERVAL:P3D
CALSCALE:GREGORIAN
BEGIN:VEVENT
DTSTART:20190216T230000Z
DTEND:20190217T010000Z
X-MICROSOFT-CDO-ALLDAYEVENT:FALSE
SUMMARY:The Lawrence Welk Dinner Hour hosted by the First United Methodist Church
DESCRIPTION:Discipleship Presents: The Lawrence Welk Dinner Hour\n\n\n\nJoin us for a night of Dinner & Dancing\n\n\n\nA sit down dinner includes:  Baked chicken\, garden salad\, baked potato\, green beans\, roll\, coffee and dessert. \n\n \n\nA Free Will Offering will be received with proceeds going to our HVAC fund.
X-ALT-DESC;FMTTYPE=text/html:Discipleship Presents: The Lawrence Welk Dinner Hour<br />\n<br />\nJoin us for a night of Dinner &amp\; Dancing<br />\n<br />\nA sit down dinner includes:&nbsp\; Baked chicken\, garden salad\, baked potato\, green beans\, roll\, coffee and dessert.&nbsp\;<br />\n&nbsp\;<br />\nA Free Will Offering will be received with proceeds going to our HVAC fund.&nbsp\;
LOCATION:First United Methodist Church 154 East Washington Street East Peoria\, IL 61611
UID:e.526.5934
SEQUENCE:3
DTSTAMP:20260420T231138Z
URL:https://business.epcc.org/events/details/the-lawrence-welk-dinner-hour-hosted-by-the-first-united-methodist-church-5934
END:VEVENT

END:VCALENDAR
