BEGIN:VCALENDAR
VERSION:2.0
PRODID:-//ChamberMaster//Event Calendar 2.0//EN
METHOD:PUBLISH
X-PUBLISHED-TTL:P3D
REFRESH-INTERVAL:P3D
CALSCALE:GREGORIAN
BEGIN:VEVENT
DTSTART:20141206T200000Z
DTEND:20141206T220000Z
X-MICROSOFT-CDO-ALLDAYEVENT:FALSE
SUMMARY:The Nutcracker
DESCRIPTION:Cornerstone Academy for Performing Arts presents The Nutcracker directed by Rebekah von Rathonyi. This performance will feature local dancers as well as Guest Artists from New York. Come be a part of our Christmas tradition\, Saturday December 6th at 2:00 and 7:00pm at ICC Performing Arts Center.
X-ALT-DESC;FMTTYPE=text/html:Cornerstone Academy for Performing Arts presents The Nutcracker directed by Rebekah von Rathonyi. This performance will feature local dancers as well as Guest Artists from New York. Come be a part of our Christmas tradition\, Saturday December 6th at 2:00 and 7:00pm at ICC Performing Arts Center.
LOCATION:ICC Performing Arts Center
UID:e.526.1255
SEQUENCE:3
DTSTAMP:20260425T121053Z
URL:https://business.epcc.org/events/details/the-nutcracker-12-06-2014-1255
END:VEVENT

END:VCALENDAR
