BEGIN:VCALENDAR
VERSION:2.0
PRODID:-//ChamberMaster//Event Calendar 2.0//EN
METHOD:PUBLISH
X-PUBLISHED-TTL:P3D
REFRESH-INTERVAL:P3D
CALSCALE:GREGORIAN
BEGIN:VEVENT
DTSTART;VALUE=DATE:20220810
DTEND;VALUE=DATE:20220811
TRANSP:TRANSPARENT
X-MICROSOFT-CDO-ALLDAYEVENT:TRUE
SUMMARY:The Pickers Daughter Fall Open House
DESCRIPTION:Save the date! Follow the link and mark "INTERESTED" in this event on Facebook to keep updated on our Fall Open House!\n\nFall means cozy flannels\, yummy Fall scents\, bonfires\, camping\, beautiful colors and warmth to your home\, and pure happiness to your soul!\n\nJoin us as we welcome the Fall Season! Come see what over 80 vendors will have new...beautiful home decor\, 1803 Fall/Winter candle scents\, Black Crow Candles\, Myra Bags\, Boutique\, Floral\, Jewelry\, Cards\, and more!\n\nWe will have sales\, discounts\, giveaways\, new products\, samples\, and the perfect place to get all your Fall shopping in! Something for everyone!\n\nMark "interested"  in this event on Facebook to stay up to date between now and September 10th!
X-ALT-DESC;FMTTYPE=text/html:<span style="color: rgb(5\, 5\, 5)\; font-family: &quot\;Segoe UI Historic&quot\;\, &quot\;Segoe UI&quot\;\, Helvetica\, Arial\, sans-serif\; font-size: 15px\;">Save the date! Follow the link and mark &quot\;INTERESTED&quot\; in this event on Facebook to keep updated on our Fall Open House!</span><br style="color: rgb(5\, 5\, 5)\; font-family: &quot\;Segoe UI Historic&quot\;\, &quot\;Segoe UI&quot\;\, Helvetica\, Arial\, sans-serif\; font-size: 15px\;" />\n<span style="color: rgb(5\, 5\, 5)\; font-family: &quot\;Segoe UI Historic&quot\;\, &quot\;Segoe UI&quot\;\, Helvetica\, Arial\, sans-serif\; font-size: 15px\;">Fall means cozy flannels\, yummy Fall scents\, bonfires\, camping\, beautiful colors and warmth to your home\, and pure happiness to your soul!</span><br style="color: rgb(5\, 5\, 5)\; font-family: &quot\;Segoe UI Historic&quot\;\, &quot\;Segoe UI&quot\;\, Helvetica\, Arial\, sans-serif\; font-size: 15px\;" />\n<span style="color: rgb(5\, 5\, 5)\; font-family: &quot\;Segoe UI Historic&quot\;\, &quot\;Segoe UI&quot\;\, Helvetica\, Arial\, sans-serif\; font-size: 15px\;">Join us as we welcome the Fall Season! Come see what over 80 vendors will have new...beautiful home decor\, 1803 Fall/Winter candle scents\, Black Crow Candles\, Myra Bags\, Boutique\, Floral\, Jewelry\, Cards\, and more!</span><br style="color: rgb(5\, 5\, 5)\; font-family: &quot\;Segoe UI Historic&quot\;\, &quot\;Segoe UI&quot\;\, Helvetica\, Arial\, sans-serif\; font-size: 15px\;" />\n<span style="color: rgb(5\, 5\, 5)\; font-family: &quot\;Segoe UI Historic&quot\;\, &quot\;Segoe UI&quot\;\, Helvetica\, Arial\, sans-serif\; font-size: 15px\;">We will have sales\, discounts\, giveaways\, new products\, samples\, and the perfect place to get all your Fall shopping in! Something for everyone!</span><br style="color: rgb(5\, 5\, 5)\; font-family: &quot\;Segoe UI Historic&quot\;\, &quot\;Segoe UI&quot\;\, Helvetica\, Arial\, sans-serif\; font-size: 15px\;" />\n<span style="color: rgb(5\, 5\, 5)\; font-family: &quot\;Segoe UI Historic&quot\;\, &quot\;Segoe UI&quot\;\, Helvetica\, Arial\, sans-serif\; font-size: 15px\;">Mark &quot\;interested&quot\;&nbsp\; in this event on Facebook to stay up to date between now and September 10th!</span><span style="color: rgb(5\, 5\, 5)\; font-family: &quot\;Segoe UI Historic&quot\;\, &quot\;Segoe UI&quot\;\, Helvetica\, Arial\, sans-serif\; font-size: 15px\;">&nbsp\;</span>
LOCATION:The Pickers Daughter 125 E. Washington Rd. East Peoria\, IL 61611
UID:e.526.7021
SEQUENCE:3
DTSTAMP:20260422T091510Z
URL:https://business.epcc.org/events/details/the-pickers-daughter-fall-open-house-7021
END:VEVENT

END:VCALENDAR
