BEGIN:VCALENDAR
VERSION:2.0
PRODID:-//ChamberMaster//Event Calendar 2.0//EN
METHOD:PUBLISH
X-PUBLISHED-TTL:P3D
REFRESH-INTERVAL:P3D
CALSCALE:GREGORIAN
BEGIN:VEVENT
DTSTART:20180411T150000Z
DTEND:20180411T170000Z
X-MICROSOFT-CDO-ALLDAYEVENT:FALSE
SUMMARY:The Power of Email Marketing with Constant Contact
DESCRIPTION:Tammy Finch from Web Services\, Inc. will be giving a few workshops for SCORE Peoria this year. The first is on Email Marketing with Constant Contact. The workshops are free and right here in East Peoria. Sign up if you want to learn more about Email Marketing. https://peoria.score.org/event/power-email-marketing-constant-contact
X-ALT-DESC;FMTTYPE=text/html:<font face="Times New Roman"><span style="background: white\; color: rgb(29\, 33\, 41)\; font-family: inherit\; font-size: 10.5pt\; mso-fareast-font-family: Calibri\; mso-fareast-theme-font: minor-latin\; mso-bidi-font-family: &quot\;Times New Roman&quot\;\; mso-ansi-language: EN-US\; mso-fareast-language: EN-US\; mso-bidi-language: AR-SA\;">Tammy Finch from Web Services\, Inc. will be giving a few workshops for </span><span class="247o"><span style="background: rgb(220\, 230\, 248)\; color: rgb(29\, 33\, 41)\; font-family: inherit\; font-size: 10.5pt\; mso-fareast-font-family: Calibri\; mso-fareast-theme-font: minor-latin\; mso-bidi-font-family: &quot\;Times New Roman&quot\;\; mso-ansi-language: EN-US\; mso-fareast-language: EN-US\; mso-bidi-language: AR-SA\;">SCORE Peoria</span></span><span style="background: white\; color: rgb(29\, 33\, 41)\; font-family: inherit\; font-size: 10.5pt\; mso-fareast-font-family: Calibri\; mso-fareast-theme-font: minor-latin\; mso-bidi-font-family: &quot\;Times New Roman&quot\;\; mso-ansi-language: EN-US\; mso-fareast-language: EN-US\; mso-bidi-language: AR-SA\;"> this year. The first is on Email Marketing with Constant Contact. The workshops are free and right here in East Peoria. Sign up if you want to learn more about Email Marketing. <a href="https://peoria.score.org/event/power-email-marketing-constant-contact"><font color="#0563c1">https://peoria.score.org/event/power-email-marketing-constant-contact</font></a></span></font>
LOCATION:201 Clock Tower Drive Fondulac Room East Peoria\, IL 61611
UID:e.526.5466
SEQUENCE:3
DTSTAMP:20260421T182538Z
URL:https://business.epcc.org/events/details/the-power-of-email-marketing-with-constant-contact-5466
END:VEVENT

END:VCALENDAR
