BEGIN:VCALENDAR
VERSION:2.0
PRODID:-//ChamberMaster//Event Calendar 2.0//EN
METHOD:PUBLISH
X-PUBLISHED-TTL:P3D
REFRESH-INTERVAL:P3D
CALSCALE:GREGORIAN
BEGIN:VEVENT
DTSTART:20190210T000000Z
DTEND:20190210T030000Z
X-MICROSOFT-CDO-ALLDAYEVENT:FALSE
SUMMARY:The Princess Bride - Giant Screen Theater
DESCRIPTION:Prepare to say "As you wish" while enjoying a catered dinner\, desserts\, and live music at the Riverfront Museum this Valentine's Day weekend. There will be "Fencing\, Fighting\, Torture\, Revenge\, Giants\, Monsters\, Chases\, Escapes\, True Love\, Miracles"\, and that's just in the movie!\n\nTicket includes:\n\n\n	Dinner\n	Movie\n	2 Drink Tickets\n	Popcorn\n	Souvenir Photo \n	Admission to Museum Galleries\n\n\nDinner is open seating at tables of 8 and 10.\n\nTo request a vegetarian meal contact DStief@peoriariverfrontmuseum.org  \n\nBuy tickets online now - click here!
X-ALT-DESC;FMTTYPE=text/html:<p style="margin: 0px 0px 10px\; font-family: &quot\;gotham book&quot\;\, Gotham-Book\, Gotham\, Helvetica\, Arial\, sans-serif\; font-size: 14px\;">Prepare to say &quot\;As you wish&quot\; while enjoying a catered dinner\, desserts\, and live music at the Riverfront Museum this Valentine&#39\;s Day weekend. There will be &quot\;Fencing\, Fighting\, Torture\, Revenge\, Giants\, Monsters\, Chases\, Escapes\, True Love\, Miracles&quot\;\, and that&#39\;s just in the movie!</p>\n\n<p style="margin: 0px 0px 10px\; font-family: &quot\;gotham book&quot\;\, Gotham-Book\, Gotham\, Helvetica\, Arial\, sans-serif\; font-size: 14px\;">Ticket includes:</p>\n\n<ul style="padding-right: 0px\; padding-left: 0px\; margin: 0px 0px 10px 25px\; font-family: &quot\;gotham book&quot\;\, Gotham-Book\, Gotham\, Helvetica\, Arial\, sans-serif\; list-style-position: inside\; font-size: 14px\;">\n	<li style="line-height: 20px\; list-style-type: disc\; margin: 0px\; list-style-position: inside\;">Dinner</li>\n	<li style="line-height: 20px\; list-style-type: disc\; margin: 0px\; list-style-position: inside\;">Movie</li>\n	<li style="line-height: 20px\; list-style-type: disc\; margin: 0px\; list-style-position: inside\;">2 Drink Tickets</li>\n	<li style="line-height: 20px\; list-style-type: disc\; margin: 0px\; list-style-position: inside\;">Popcorn</li>\n	<li style="line-height: 20px\; list-style-type: disc\; margin: 0px\; list-style-position: inside\;">Souvenir Photo&nbsp\;</li>\n	<li style="line-height: 20px\; list-style-type: disc\; margin: 0px\; list-style-position: inside\;">Admission to Museum Galleries</li>\n</ul>\n\n<p style="margin: 0px 0px 10px\; font-family: &quot\;gotham book&quot\;\, Gotham-Book\, Gotham\, Helvetica\, Arial\, sans-serif\; font-size: 14px\;">Dinner is open seating at tables of 8 and 10.</p>\n\n<p style="margin: 0px 0px 10px\; font-family: &quot\;gotham book&quot\;\, Gotham-Book\, Gotham\, Helvetica\, Arial\, sans-serif\; font-size: 14px\;">To request a vegetarian meal contact&nbsp\;<a href="mailto:%44%53%74%69%65%66%40%70%65%6f%72%69%61%72%69%76%65%72%66%72%6f%6e%74%6d%75%73%65%75%6d%2e%6f%72%67" style="color: rgb(0\, 136\, 204)\; text-decoration-line: none\; font-family: inherit\;" title="DStief@peoriariverfrontmuseum.org">DStief@peoriariverfrontmuseum.org&nbsp\;</a>&nbsp\;</p>\n\n<p style="margin: 0px 0px 10px\; font-family: &quot\;gotham book&quot\;\, Gotham-Book\, Gotham\, Helvetica\, Arial\, sans-serif\; font-size: 14px\;"><span style="font-weight: 700\;">Buy tickets online now -&nbsp\;<a href="https://cart.peoriariverfrontmuseum.org/performance.aspx?pid=36328" style="color: rgb(0\, 136\, 204)\; text-decoration-line: none\; font-family: inherit\;" title="https://cart.peoriariverfrontmuseum.org/performance.aspx?pid=36328">click here!</a></span></p>\n
LOCATION:Peoria Riverfront Museum Grand Lobby & Giant Screen Theater
UID:e.526.5966
SEQUENCE:3
DTSTAMP:20260420T231052Z
URL:https://business.epcc.org/events/details/the-princess-bride-giant-screen-theater-5966
END:VEVENT

END:VCALENDAR
