BEGIN:VCALENDAR
VERSION:2.0
PRODID:-//ChamberMaster//Event Calendar 2.0//EN
METHOD:PUBLISH
X-PUBLISHED-TTL:P3D
REFRESH-INTERVAL:P3D
CALSCALE:GREGORIAN
BEGIN:VEVENT
DTSTART:20150831T210000Z
DTEND:20150901T000000Z
X-MICROSOFT-CDO-ALLDAYEVENT:FALSE
SUMMARY:The Retail Project - for Teens
DESCRIPTION:Are you a teen looking for work experience? The Retail Project will help you get hands-on work experience at a Goodwill Store. You will learn skills to put on your resume or job application\, plus all program graduates receive a free professional outfit perfect for wearing to interviews. Participants must be 14-18 years old and be able to work three hours a day for one week (5 days). Sessions take place from 4:00 p.m. to 7:00 p.m. Monday through Friday\, August 31 - September 4.
X-ALT-DESC;FMTTYPE=text/html:Are you a teen looking for work experience? The Retail Project will help you get hands-on work experience at a Goodwill Store. You will learn skills to put on your resume or job application\, plus all program graduates receive a free professional outfit perfect for wearing to interviews. Participants must be 14-18 years old and be able to work three hours a day for one week (5 days). Sessions take place from 4:00 p.m. to 7:00 p.m. Monday through Friday\, August 31 - September 4.
LOCATION:East Peoria Goodwill Store at 210 S. Main Street\, East Peoria IL 61611
UID:e.526.1742
SEQUENCE:3
DTSTAMP:20260425T003027Z
URL:https://business.epcc.org/events/details/the-retail-project-for-teens-08-31-2015-1742
END:VEVENT

END:VCALENDAR
