BEGIN:VCALENDAR
VERSION:2.0
PRODID:-//ChamberMaster//Event Calendar 2.0//EN
METHOD:PUBLISH
X-PUBLISHED-TTL:P3D
REFRESH-INTERVAL:P3D
CALSCALE:GREGORIAN
BEGIN:VEVENT
DTSTART:20161211T020000Z
DTEND:20161211T050000Z
X-MICROSOFT-CDO-ALLDAYEVENT:FALSE
SUMMARY:The Way Down Wanderers
DESCRIPTION:99.9 WWCT & Limelight Eventplex Presents:\n\nWandering Home For The Holidays:The Way Down Wanderers\n\nEGi\, Sarah Marie Dillard & the Underground\n\nSaturday Dec 10\, 2016\n\nDoors: 7:00 PM \n\nShow: 8:00 PM\n\nAll Ages\n\n$7 - $13
X-ALT-DESC;FMTTYPE=text/html:<div>99.9 WWCT &amp\; Limelight Eventplex Presents:</div>\n\n<div>Wandering Home For The Holidays:The Way Down Wanderers</div>\n\n<div>EGi\, Sarah Marie Dillard &amp\; the Underground</div>\n\n<div><span style="font-family: inherit\; font-size: inherit\;">Saturday</span>&nbsp\;<span style="font-family: inherit\; font-size: inherit\;">Dec 10</span><span style="font-family: inherit\; font-size: inherit\;">\, 2016</span></div>\n\n<p>Doors: 7:00 PM&nbsp\;<br />\nShow: 8:00 PM</p>\n\n<p>All Ages</p>\n\n<div>$7 - $13</div>\n
LOCATION:Limelight Eventplex
UID:e.526.3290
SEQUENCE:3
DTSTAMP:20260422T154550Z
URL:https://business.epcc.org/events/details/the-way-down-wanderers-3290
END:VEVENT

END:VCALENDAR
