BEGIN:VCALENDAR
VERSION:2.0
PRODID:-//ChamberMaster//Event Calendar 2.0//EN
METHOD:PUBLISH
X-PUBLISHED-TTL:P3D
REFRESH-INTERVAL:P3D
CALSCALE:GREGORIAN
BEGIN:VEVENT
DTSTART:20160218T220000Z
DTEND:20160218T233000Z
X-MICROSOFT-CDO-ALLDAYEVENT:FALSE
SUMMARY:ThinkFirst - Teen Workshop
DESCRIPTION:ThinkFirst is a national organization with an important message for teens: Use your mind to protect your body! Did you know that traumatic injuries are the leading cause of death among teens? Car crashes\, sports injuries\, or even falls can result in serious injuries to the brain or spine. The good news is that many of these types of injuries are preventable. Learn how to protect yourself through hands-on demonstrations and inspiring speakers. Participants must be 11 - 17 years old.
X-ALT-DESC;FMTTYPE=text/html:ThinkFirst is a national organization with an important message for teens: Use your mind to protect your body! Did you know that traumatic injuries are the leading cause of death among teens? Car crashes\, sports injuries\, or even falls can result in serious injuries to the brain or spine. The good news is that many of these types of injuries are preventable. Learn how to protect yourself through hands-on demonstrations and inspiring speakers. Participants must be 11 - 17 years old.
LOCATION:Goodwill Commons at 2319 E. War Memorial Dr.\, Peoria\, IL 61614
UID:e.526.3008
SEQUENCE:3
DTSTAMP:20260424T175747Z
URL:https://business.epcc.org/events/details/thinkfirst-teen-workshop-02-18-2016-3008
END:VEVENT

END:VCALENDAR
