BEGIN:VCALENDAR
VERSION:2.0
PRODID:-//ChamberMaster//Event Calendar 2.0//EN
METHOD:PUBLISH
X-PUBLISHED-TTL:P3D
REFRESH-INTERVAL:P3D
CALSCALE:GREGORIAN
BEGIN:VEVENT
DTSTART;VALUE=DATE:20180803
DTEND;VALUE=DATE:20180804
TRANSP:TRANSPARENT
X-MICROSOFT-CDO-ALLDAYEVENT:TRUE
SUMMARY:Time Gallery Exhibit of the 1906 San Francisco Earthquake and Fire
DESCRIPTION:On April 18\,1906 at 5:12 a.m. a 7.9 magnitude earthquake struck the city of San Francisco.\n\nA former Peorian\, Karolinn Schmidt O'Connor\, photographed the aftermath of this earthquake and fire.  After many years these small black and white photos\, which were stored in an old trunk of her sister's home in Peoria\, made their way to Karolinn's great niece\, Becky Dailey.  Becky restored and identified the photos for others to study and view.\n\n \n\nMeet and greet Becky to share information about the earthquake:\n\n        Wednesday\, August 15th 11:00   1:00\n\n        Saturday\, September 8th 9:00   11:00
X-ALT-DESC;FMTTYPE=text/html:On April 18\,1906 at 5:12 a.m. a 7.9 magnitude earthquake struck the city of San Francisco.<br />\nA former Peorian\, Karolinn Schmidt O&rsquo\;Connor\, photographed the aftermath of this earthquake and fire.&nbsp\; After many years these small black and white photos\, which were stored in an old trunk of her sister&rsquo\;s home in Peoria\, made their way to Karolinn&rsquo\;s great niece\, Becky Dailey.&nbsp\; Becky restored and identified the photos for others&nbsp\;to study and view.<br />\n&nbsp\;<br />\nMeet and greet Becky to share information about the earthquake:<br />\n&nbsp\;&nbsp\;&nbsp\;&nbsp\;&nbsp\;&nbsp\;&nbsp\;&nbsp\;Wednesday\, August 15<sup>th</sup> 11:00 &ndash\; 1:00<br />\n&nbsp\;&nbsp\;&nbsp\;&nbsp\;&nbsp\;&nbsp\;&nbsp\;&nbsp\;<span style="font-family:times new roman\,serif\;"><span style="font-size:12.0pt\;">Saturday\, September 8<sup>th</sup> 9:00 &ndash\; 11:00</span></span>
LOCATION:201 Clock Tower Dr. East Peoria\, IL 61611 2nd Floor
UID:e.526.5492
SEQUENCE:3
DTSTAMP:20260421T070623Z
URL:https://business.epcc.org/events/details/time-gallery-exhibit-of-the-1906-san-francisco-earthquake-and-fire-5492
END:VEVENT

END:VCALENDAR
