BEGIN:VCALENDAR
VERSION:2.0
PRODID:-//ChamberMaster//Event Calendar 2.0//EN
METHOD:PUBLISH
X-PUBLISHED-TTL:P3D
REFRESH-INTERVAL:P3D
CALSCALE:GREGORIAN
BEGIN:VEVENT
DTSTART:20160523T140000Z
DTEND:20160524T000000Z
X-MICROSOFT-CDO-ALLDAYEVENT:FALSE
SUMMARY:Tour of Ray LaHood International Terminal
DESCRIPTION:Take a tour of the new Ray LaHood International Terminal at the Gen. Wayne A. Downing Peoria International Airport. Tours will be given 9-11 a.m.\; 1-4 p.m. and 5-7 p.m. This is the public's only opportunity to see behind-the-scenes of our U.S. Customs and Border Protection Facility.
X-ALT-DESC;FMTTYPE=text/html:Take a tour of the new Ray LaHood International Terminal at the Gen. Wayne A. Downing Peoria International Airport. Tours will be given 9-11 a.m.\; 1-4 p.m. and 5-7 p.m. This is the public&#39\;s only opportunity to see behind-the-scenes of our U.S. Customs and Border Protection Facility.
LOCATION:6100 W. Everett Dirksen McKinley Parkway\, Peoria IL
UID:e.526.3103
SEQUENCE:3
DTSTAMP:20260424T123330Z
URL:https://business.epcc.org/events/details/tour-of-ray-lahood-international-terminal-05-23-2016-3103
END:VEVENT

END:VCALENDAR
