BEGIN:VCALENDAR
VERSION:2.0
PRODID:-//ChamberMaster//Event Calendar 2.0//EN
METHOD:PUBLISH
X-PUBLISHED-TTL:P3D
REFRESH-INTERVAL:P3D
CALSCALE:GREGORIAN
BEGIN:VEVENT
DTSTART;VALUE=DATE:20180722
DTEND;VALUE=DATE:20180723
TRANSP:TRANSPARENT
X-MICROSOFT-CDO-ALLDAYEVENT:TRUE
SUMMARY:Tractor Drive at Wheels O' Time Museum
DESCRIPTION:SEE THE POPULAR ANNUAL TRACTOR DISPLAY AT WHEELS O' TIME MUSEUM* JULY 22 TO 26\, 2018 AND...VISIT THE CAT AND FARM TRACTOR DISPLAYS IN THE MUSEUM OPEN WEDNESDAY THROUGH SUNDAY NOON TO 5:00 P.M. ON FRIDAY\, JULY 27 THE TRACTORS WILL MAKE THEIR DRIVE TO THE PRINCEVILLE HERITAGE MUSEUM STARTING AT 9:00 A.M. IF YOU WOULD LIKE TO JOIN THE DRIVE\, REGISTER WITH KEVIN ENGQUIST 309-296-9616
X-ALT-DESC;FMTTYPE=text/html:SEE THE POPULAR ANNUAL TRACTOR DISPLAY AT WHEELS O&rsquo\; TIME MUSEUM* JULY 22 TO 26\, 2018&nbsp\;AND...VISIT THE CAT AND FARM TRACTOR DISPLAYS IN THE MUSEUM OPEN WEDNESDAY THROUGH SUNDAY NOON TO 5:00 P.M. ON FRIDAY\, JULY 27 THE TRACTORS WILL MAKE THEIR DRIVE TO THE PRINCEVILLE HERITAGE MUSEUM STARTING AT 9:00 A.M. IF YOU WOULD LIKE TO JOIN THE DRIVE\, REGISTER WITH KEVIN ENGQUIST&mdash\;309-296-9616&nbsp\;
LOCATION:1710 W Woodside Drive Dunlap\, IL 61525
UID:e.526.5558
SEQUENCE:3
DTSTAMP:20260421T083536Z
URL:https://business.epcc.org/events/details/tractor-drive-at-wheels-o-time-museum-5558
END:VEVENT

END:VCALENDAR
