BEGIN:VCALENDAR
VERSION:2.0
PRODID:-//ChamberMaster//Event Calendar 2.0//EN
METHOD:PUBLISH
X-PUBLISHED-TTL:P3D
REFRESH-INTERVAL:P3D
CALSCALE:GREGORIAN
BEGIN:VEVENT
DTSTART:20221029T170000Z
DTEND:20221029T200000Z
X-MICROSOFT-CDO-ALLDAYEVENT:FALSE
SUMMARY:Trick-Or-Treat at The Pickers Daughter
DESCRIPTION:Bring your lil ghosts & goblins by for a spooky treat! Trick or Treat here 12-3. Children must be accompanied by an adult. Enter in the drawing for a $25 gift certificate. You'll find some scary crazy sales and markdowns! Don't miss out on your chance to win some wicked prizes and the lil goblins will get to grab some mummy treats!
X-ALT-DESC;FMTTYPE=text/html:<span style="color: rgb(5\, 5\, 5)\; font-family: &quot\;Segoe UI Historic&quot\;\, &quot\;Segoe UI&quot\;\, Helvetica\, Arial\, sans-serif\; font-size: 15px\;">Bring your lil ghosts &amp\; goblins by for a spooky treat! Trick or Treat here 12-3. Children must be accompanied by an adult. Enter in the drawing for a $25 gift certificate. You&#39\;ll find some scary crazy sales and markdowns! Don&#39\;t miss out on your chance to win some wicked prizes and the lil goblins will get to grab some mummy treats!&nbsp\;</span>
LOCATION:The Pickers Daughter: 125 E Washington St East Peoria\, IL 61611
UID:e.526.7025
SEQUENCE:3
DTSTAMP:20260422T115854Z
URL:https://business.epcc.org/events/details/trick-or-treat-at-the-pickers-daughter-7025
END:VEVENT

END:VCALENDAR
