BEGIN:VCALENDAR
VERSION:2.0
PRODID:-//ChamberMaster//Event Calendar 2.0//EN
METHOD:PUBLISH
X-PUBLISHED-TTL:P3D
REFRESH-INTERVAL:P3D
CALSCALE:GREGORIAN
BEGIN:VEVENT
DTSTART:20160805T153000Z
DTEND:20160805T233000Z
X-MICROSOFT-CDO-ALLDAYEVENT:FALSE
SUMMARY:TRICON Golf Outing
DESCRIPTION:TRICON's 29th annual golf outing is scheduled for Friday\, August 5\, 2016 at Weaver Ridge Golf Club.\n\n \n\nGather your friends\, co-workers\, employees and clients to get your foursomes together.  It's a great way to network.\n\n \n\nRegister today by completing the registration form here.\n\n \n\nBe a sponsor too!  We have a lot of sponsorship opportunities available from tee signs to prize sponsors to lunch sponsors to beverage cart sponsors.  All of our sponsors get recognized at the outing\, on our site and in the Labor Paper.  Show your support of the local union construction industry\, complete the sponsorship form here.\n\n \n\nWant to pay with a credit card?  All sponsors and golfers can register online by going through Eventbrite.\n\n \n\nPlease contact us at 309-691-5060 if you have any questions or concerns.\n\n \n\nHope to see everyone out on the links building better relationships.
X-ALT-DESC;FMTTYPE=text/html:<div><span style="font-size: 14px\;"><span style="font-family: tahoma\;">TRICON&#39\;s 29th annual golf outing is scheduled for Friday\, August 5\, 2016 at Weaver Ridge Golf Club.</span></span></div>\n\n<div>&nbsp\;</div>\n\n<div><span style="font-size: 14px\;"><span style="font-family: tahoma\;">Gather your friends\, co-workers\, employees and clients to get your foursomes together.&nbsp\; It&#39\;s a great way to network.</span></span></div>\n\n<div>&nbsp\;</div>\n\n<div><span style="font-size: 14px\;"><span style="font-family: tahoma\;">Register today by completing the registration form <a href="http://www.better-built.us/_data/files/Registration%20form.pdf">here</a>.</span></span></div>\n\n<div>&nbsp\;</div>\n\n<div><span style="font-size: 14px\;"><span style="font-family: tahoma\;">Be a sponsor too!&nbsp\; We have a lot of sponsorship opportunities available from tee signs to prize sponsors to lunch sponsors to beverage cart sponsors.&nbsp\; All of our sponsors get recognized at the outing\, on our site and in the Labor Paper.&nbsp\; Show your support of the local union construction industry\, complete the sponsorship form <a href="http://www.better-built.us/_data/files/Sponsorship%20form.pdf">here</a>.</span></span></div>\n\n<div>&nbsp\;</div>\n\n<div><span style="font-size: 14px\;"><span style="font-family: tahoma\;">Want to pay with a credit card?&nbsp\; All sponsors and golfers can register online by going through<a href="https://www.eventbrite.com/e/tricon-golf-outing-tickets-26353846063?aff=eac2"> Eventbrite</a>.</span></span></div>\n\n<div>&nbsp\;</div>\n\n<div><span style="font-size: 14px\;"><span style="font-family: tahoma\;">Please contact us at 309-691-5060 if you have any questions or concerns.</span></span></div>\n\n<div>&nbsp\;</div>\n\n<div><span style="font-size: 14px\;"><span style="font-family: tahoma\;">Hope to see everyone out on the links building better relationships.</span></span></div>\n\n<div>&nbsp\;</div>\n
LOCATION:Weaver Ridge Golf Club 5100 N. Weaverridge Blvd. Peoria\, IL 61615
UID:e.526.3221
SEQUENCE:3
DTSTAMP:20260422T212847Z
URL:https://business.epcc.org/events/details/tricon-golf-outing-08-05-2016-3221
END:VEVENT

END:VCALENDAR
