BEGIN:VCALENDAR
VERSION:2.0
PRODID:-//ChamberMaster//Event Calendar 2.0//EN
METHOD:PUBLISH
X-PUBLISHED-TTL:P3D
REFRESH-INTERVAL:P3D
CALSCALE:GREGORIAN
BEGIN:VEVENT
DTSTART:20190426T230000Z
DTEND:20190427T020000Z
X-MICROSOFT-CDO-ALLDAYEVENT:FALSE
SUMMARY:Trivia Night for CAC
DESCRIPTION:The Children's Advocacy Center is hosting our Annual Trivia Night at the East Peoria Par-a-Dice Hotel on Friday 4/26/19.  Doors open at 6pm\, Trivia begins at 6:45pm.  Live/Silent Auctions. Heads & Tails game.  $280 per table with up to 8 people per team/table.  This fundraisers supports the CAC and their efforts to help physically or sexually abused children in Tazewell\, Woodford\, and Mason counties.
X-ALT-DESC;FMTTYPE=text/html:<span style="font-family:calibri\,sans-serif\;"><span style="font-size:11.0pt\;">The Children&#39\;s Advocacy Center is hosting our Annual Trivia Night at the East Peoria Par-a-Dice Hotel on Friday 4/26/19.&nbsp\; Doors open at 6pm\, Trivia begins at 6:45pm.&nbsp\; Live/Silent Auctions. Heads &amp\; Tails game.&nbsp\; $280 per table with up to 8 people per team/table.&nbsp\; This fundraisers supports the CAC and their efforts to help physically or sexually abused children in Tazewell\, Woodford\, and Mason counties.</span></span>
LOCATION:Par-A-Dice Hotel Casino
UID:e.526.5970
SEQUENCE:3
DTSTAMP:20260420T195950Z
URL:https://business.epcc.org/events/details/trivia-night-for-cac-5970
END:VEVENT

END:VCALENDAR
