BEGIN:VCALENDAR
VERSION:2.0
PRODID:-//ChamberMaster//Event Calendar 2.0//EN
METHOD:PUBLISH
X-PUBLISHED-TTL:P3D
REFRESH-INTERVAL:P3D
CALSCALE:GREGORIAN
BEGIN:VEVENT
DTSTART:20181129T143000Z
DTEND:20181129T193000Z
X-MICROSOFT-CDO-ALLDAYEVENT:FALSE
SUMMARY:Turner Center Entrepreneurship Ecosystem and Convergence Conference
DESCRIPTION:
X-ALT-DESC;FMTTYPE=text/html:
LOCATION:
UID:e.526.5647
SEQUENCE:3
DTSTAMP:20260421T022402Z
URL:https://business.epcc.org/events/details/turner-center-entrepreneurship-ecosystem-and-convergence-conference-5647
END:VEVENT

END:VCALENDAR
