BEGIN:VCALENDAR
VERSION:2.0
PRODID:-//ChamberMaster//Event Calendar 2.0//EN
METHOD:PUBLISH
X-PUBLISHED-TTL:P3D
REFRESH-INTERVAL:P3D
CALSCALE:GREGORIAN
BEGIN:VEVENT
DTSTART;VALUE=DATE:20230420
DTEND;VALUE=DATE:20230421
TRANSP:TRANSPARENT
X-MICROSOFT-CDO-ALLDAYEVENT:TRUE
SUMMARY:U.S> China Policy: Perilous Past\, Uncertain Present\, and Moving Toward a Harder Future (Peoria Area World Affairs Council)
DESCRIPTION:
X-ALT-DESC;FMTTYPE=text/html:
LOCATION:
UID:e.526.7123
SEQUENCE:3
DTSTAMP:20260422T221914Z
URL:https://business.epcc.org/events/details/u-s-china-policy-perilous-past-uncertain-present-and-moving-toward-a-harder-future-peoria-area-world-affairs-council-7123
END:VEVENT

END:VCALENDAR
