BEGIN:VCALENDAR
VERSION:2.0
PRODID:-//ChamberMaster//Event Calendar 2.0//EN
METHOD:PUBLISH
X-PUBLISHED-TTL:P3D
REFRESH-INTERVAL:P3D
CALSCALE:GREGORIAN
BEGIN:VEVENT
DTSTART:20180810T190000Z
DTEND:20180810T210000Z
X-MICROSOFT-CDO-ALLDAYEVENT:FALSE
SUMMARY:UICOMP White Coat Ceremony
DESCRIPTION:UICOMP welcomes new medical students to Peoria with the presentation of the white coat.\n\n \n\nCeremony begins at 2 p.m. at Jump Simulation Auditorium\n\n\n\nReception follows at 3:30 pm in the UICOMP Lobby.
X-ALT-DESC;FMTTYPE=text/html:<p style="margin: 0px\; padding: 0px\; border: 0px\; ---font: inherit\; vertical-align: baseline\; box-sizing: border-box\; color: rgb(17\, 17\, 17)\; font-family: &quot\;Open Sans&quot\;\, Helvetica\, Arial\, sans-serif\;">UICOMP welcomes new medical students to Peoria with the presentation of the white coat.<br />\n&nbsp\;</p>\n\n<p style="margin: 0px\; padding: 0px\; border: 0px\; ---font: inherit\; vertical-align: baseline\; box-sizing: border-box\; color: rgb(17\, 17\, 17)\; font-family: &quot\;Open Sans&quot\;\, Helvetica\, Arial\, sans-serif\;">Ceremony begins at 2 p.m. at Jump Simulation Auditorium</p>\n\n<p style="margin: 0px\; padding: 0px\; border: 0px\; ---font: inherit\; vertical-align: baseline\; box-sizing: border-box\; color: rgb(17\, 17\, 17)\; font-family: &quot\;Open Sans&quot\;\, Helvetica\, Arial\, sans-serif\;"><br />\nReception follows at 3:30 pm in the UICOMP Lobby.</p>\n
LOCATION:Jump Trading Simulation & Education Center 1306 N. Berkeley Ave.\, Peoria
UID:e.526.5599
SEQUENCE:3
DTSTAMP:20260421T065944Z
URL:https://business.epcc.org/events/details/uicomp-white-coat-ceremony-5599
END:VEVENT

END:VCALENDAR
