BEGIN:VCALENDAR
VERSION:2.0
PRODID:-//ChamberMaster//Event Calendar 2.0//EN
METHOD:PUBLISH
X-PUBLISHED-TTL:P3D
REFRESH-INTERVAL:P3D
CALSCALE:GREGORIAN
BEGIN:VEVENT
DTSTART:20180515T170000Z
DTEND:20180515T180000Z
X-MICROSOFT-CDO-ALLDAYEVENT:FALSE
SUMMARY:Understanding Harmonized Codes for Strategic Global Marketing
DESCRIPTION:Topics will include:\n\n\n\n	Understanding the harmonized code structure\n	Global codes versus local codes\n	Schedule B versus the HTSUS\n	Why harmonized codes are useful for international marketing decisions\n	Tip on how to find harmonized codes (easily)\n\n\nSpeaker:  Jim Foley\, CGBP is the Director of the Illinois SBDC International Trade Center\n\n\nat Bradley University in the Foster College of Business.
X-ALT-DESC;FMTTYPE=text/html:<div>&nbsp\;Topics will include:</div>\n\n<div>\n<ul>\n	<li>Understanding the harmonized code structure</li>\n	<li>Global codes versus local codes</li>\n	<li>Schedule B versus the HTSUS</li>\n	<li>Why harmonized codes are useful for international marketing decisions</li>\n	<li>Tip on how to find harmonized codes (easily)</li>\n</ul>\n\n<div>Speaker:&nbsp\; Jim Foley\, CGBP is the Director of the Illinois SBDC International Trade Center</div>\n</div>\n\n<div>at Bradley University in the Foster College of Business.</div>\n
LOCATION:Webinar
UID:e.526.5487
SEQUENCE:3
DTSTAMP:20260421T153444Z
URL:https://business.epcc.org/events/details/understanding-harmonized-codes-for-strategic-global-marketing-5487
END:VEVENT

END:VCALENDAR
