BEGIN:VCALENDAR
VERSION:2.0
PRODID:-//ChamberMaster//Event Calendar 2.0//EN
METHOD:PUBLISH
X-PUBLISHED-TTL:P3D
REFRESH-INTERVAL:P3D
CALSCALE:GREGORIAN
BEGIN:VEVENT
DTSTART:20190206T173000Z
DTEND:20190206T193000Z
X-MICROSOFT-CDO-ALLDAYEVENT:FALSE
SUMMARY:Understanding Intellectual Property\, Patents\, Trademarks and More
DESCRIPTION:The objective of this Lunch and Learn training is to provide assistance on intellectual property (IP) management to entrepreneurs\, micro\, small and medium sized companies. Receive technical assistance on how to protect\, identify\, and manage your IP assets. Learn how to protect your commercial identity or brand and the risk of trademark infringement.\n\nDiscussion Points:\n\n	What is intellectual property (IP)?\n	Learn how startups can leverage IP\n	The essential guide to patent filing\n	How to know if your patent is worth the cost\n	What IP protections you will need\n	Learn the important IP protections for tech startups\n	Why you should care about copyright and trademark laws\n	Licensing Patents\n\nSpeaker: Jonathan Phillips\, BU Alum. Jonathan Phillips is an intellectual property attorney located in Peoria\, Illinois. His nationwide practice consists of intellectual property procurement\, licensing\, assignment\, and litigation. He regularly assists small and medium sized businesses with their intellectual property and other business issues.
X-ALT-DESC;FMTTYPE=text/html:<span style="color:#5B4F4C"><span style="font-family:arial\,sans-serif"><span style="font-size:9.0pt">The objective of this Lunch and Learn training is to provide assistance on intellectual property (IP) management to entrepreneurs\, micro\, small and medium sized companies. Receive technical assistance on how to protect\, identify\, and manage your IP assets. Learn how to protect your commercial identity or brand and the risk of trademark infringement.</span></span></span><br />\n<strong><span style="color:#790000"><span style="font-family:arial\,sans-serif"><span style="font-size:10.0pt">Discussion Points:</span></span></span></strong>\n<ol>\n	<li><span style="color:#5B4F4C"><span style="font-family:arial\,sans-serif"><span style="font-size:9.0pt">What is intellectual property (IP)?</span></span></span></li>\n	<li><span style="color:#5B4F4C"><span style="font-family:arial\,sans-serif"><span style="font-size:9.0pt">Learn how startups can leverage IP</span></span></span></li>\n	<li><span style="color:#5B4F4C"><span style="font-family:arial\,sans-serif"><span style="font-size:9.0pt">The essential guide to patent filing</span></span></span></li>\n	<li><span style="color:#5B4F4C"><span style="font-family:arial\,sans-serif"><span style="font-size:9.0pt">How to know if your patent is worth the cost</span></span></span></li>\n	<li><span style="color:#5B4F4C"><span style="font-family:arial\,sans-serif"><span style="font-size:9.0pt">What IP protections you will need</span></span></span></li>\n	<li><span style="color:#5B4F4C"><span style="font-family:arial\,sans-serif"><span style="font-size:9.0pt">Learn the important IP protections for tech startups</span></span></span></li>\n	<li><span style="color:#5B4F4C"><span style="font-family:arial\,sans-serif"><span style="font-size:9.0pt">Why you should care about copyright and trademark laws</span></span></span></li>\n	<li><span style="color:#5B4F4C"><span style="font-family:arial\,sans-serif"><span style="font-size:9.0pt">Licensing Patents</span></span></span></li>\n</ol>\n<strong><span style="color:#5B4F4C"><span style="font-family:arial\,sans-serif"><span style="font-size:9.0pt">Speaker:</span></span></span></strong><span style="color:#5B4F4C"><span style="font-family:arial\,sans-serif"><span style="font-size:9.0pt">&nbsp\;Jonathan Phillips\, BU Alum. Jonathan Phillips is an intellectual property attorney located in Peoria\, Illinois. His nationwide practice consists of intellectual property procurement\, licensing\, assignment\, and litigation. He regularly assists small and medium sized businesses with their intellectual property and other business issues.&nbsp\;</span></span></span>
LOCATION:PeoriaNEXT Innovation Center\, 801 W Main Street\, Peoria
UID:e.526.5937
SEQUENCE:3
DTSTAMP:20260420T214514Z
URL:https://business.epcc.org/events/details/understanding-intellectual-property-patents-trademarks-and-more-5937
END:VEVENT

END:VCALENDAR
