BEGIN:VCALENDAR
VERSION:2.0
PRODID:-//ChamberMaster//Event Calendar 2.0//EN
METHOD:PUBLISH
X-PUBLISHED-TTL:P3D
REFRESH-INTERVAL:P3D
CALSCALE:GREGORIAN
BEGIN:VEVENT
DTSTART:20210218T060000Z
DTEND:20210218T070000Z
X-MICROSOFT-CDO-ALLDAYEVENT:FALSE
SUMMARY:US-China Relationship: What Businesses Need to Know
DESCRIPTION:Business organizations and state governments have a role to play in shaping the future US-China trade relationship. Whether it's attracting Chinese investment to states such as Illinois or opening China's markets to our product and service exports\, the China market is too dynamic to leave important policy decisions to other actors. At the same time\, the costs of decoupling are substantial\, as a new US-China Business Council (USCBC) study demonstrates. Ambassador Craig Allen will discuss ways Central Illinois can benefit from a thoughtful approach to China's rise as a superpower rival to the US.\n\n\n\nThis webinar will benefit anyone with an interest in the US's global role in policy\, commerce and trade and how it is increasingly being defined by our relationship with China. Moreover\, as the US and China experience a rapid shift in how trade is pursued\, it is important that anyone engaged in business with China is aware of the larger context that is driving this sea change\, so they are able to take an informed long-view in formulating business strategy with this important partner and rival.\n\n \n\nTalking Points:\n\n	Ambassador Allen will provide background on the trade tensions between China and the US that have escalated into disputes in areas\, such as technology and finance. Is there a middle ground for US businesses to take in order to benefit from their dealings with China? \n	Allen will outline what every business needs to know to plan for the future in this rapidly evolving environment and how US businesses are working to shape the future of the relationship between the US and China.  \n	Importers and exporters benefit from a thoughtful\, informed approach to our strategic relationship with China. Over two and a half million jobs in the US are dependent upon trade with China.  Illinois exports alone make up over 42\,000 of those jobs. Goods exports to China in 2019 totaled $4 billion.  \n	We will explore how current tensions will likely play out into the next Administration and how more extreme outcomes\, such as decoupling and tariff conflicts\, complicate business here and our competitiveness abroad.\n\n \n\nOur Speaker: Ambassador Craig B. Allen\n\n\n\nOn July 26\, 2018\, Craig Allen began his tenure in Washington\, DC\, as the sixth President of the USCBC\, a private\, nonpartisan\, nonprofit organization representing over 200 American companies doing business with China. Prior to joining USCBC\, Craig had a long\, distinguished career in US public service.\n\nCraig began his government career in 1985 at the Department of Commerce's International Trade Administration (ITA). He entered government as a Presidential Management Intern\, rotating through the four branches of ITA. From 1986 to 1988\, he was an international economist in ITA's China Office.\n\nIn 1988\, Craig transferred to the American Institute in Taiwan\, where he served as Director of the American Trade Center in Taipei. He held this position until 1992\, when he returned to the Department of Commerce for a three-year posting at the US Embassy in Beijing as Commercial Attach .\n\n\n\nThis event is co-sponsored by Peoria Area World Affairs Council (PAWAC).
X-ALT-DESC;FMTTYPE=text/html:<span style="color:#5b4f4c"><span style="font-family:arial\,sans-serif"><span style="font-size:9pt">Business organizations and state governments have a role to play in shaping the future US-China trade relationship. Whether it&rsquo\;s attracting Chinese investment to states such as Illinois or opening China&rsquo\;s markets to our product and service exports\, the China market is too dynamic to leave important policy decisions to other actors. At the same time\, the costs of decoupling are substantial\, as a new US-China Business Council (USCBC) study demonstrates. Ambassador Craig Allen will discuss ways Central Illinois can benefit from a thoughtful approach to China&rsquo\;s rise as a superpower rival to the US.</span></span></span><br />\n<br />\n<span style="color:#5b4f4c"><span style="font-family:arial\,sans-serif"><span style="font-size:9pt">This webinar will benefit anyone with an interest in the US&#39\;s&nbsp\;global role in policy\, commerce and trade and how it is increasingly being defined by our relationship with China.&nbsp\;Moreover\, as the US and China experience a rapid shift in how trade is pursued\, it is important that anyone engaged in business with China is aware of the larger context that is driving this sea change\, so they are able to take an informed long-view in formulating business strategy with this important partner and rival.</span></span></span><br />\n&nbsp\;<br />\n<strong><span style="color:#5b4f4c"><span style="font-family:arial\,sans-serif"><span style="font-size:9pt">Talking Points:</span></span></span></strong>\n<ul>\n	<li><span style="color:#5b4f4c"><span style="font-family:arial\,sans-serif"><span style="font-size:9pt">Ambassador Allen will provide background on the trade tensions between China and the US that have escalated into disputes in areas\, such as technology and finance. Is there a middle ground for US businesses to take in order to benefit from their dealings with China?&nbsp\;</span></span></span></li>\n	<li><span style="color:#5b4f4c"><span style="font-family:arial\,sans-serif"><span style="font-size:9pt">Allen will outline what every business needs to know to plan for the future in this rapidly evolving environment and how US businesses are working to shape the future of the relationship between the US and China.&nbsp\;&nbsp\;</span></span></span></li>\n	<li><span style="color:#5b4f4c"><span style="font-family:arial\,sans-serif"><span style="font-size:9pt">Importers and exporters benefit from a thoughtful\, informed approach to our strategic relationship with China.&nbsp\;Over two and a half million jobs in the US are dependent upon trade with China.&nbsp\; Illinois exports alone make up over 42\,000 of those jobs.&nbsp\;Goods exports to China in 2019 totaled $4 billion.&nbsp\;&nbsp\;</span></span></span></li>\n	<li><span style="color:#5b4f4c"><span style="font-family:arial\,sans-serif"><span style="font-size:9pt">We will explore how current tensions will likely play out into the next Administration and how more extreme outcomes\, such as decoupling and tariff conflicts\, complicate business here and our competitiveness abroad.</span></span></span></li>\n</ul>\n&nbsp\;<br />\n<strong><span style="color:#5b4f4c"><span style="font-family:arial\,sans-serif"><span style="font-size:9pt">Our Speaker: Ambassador Craig B. Allen</span></span></span></strong><br />\n<br />\n<span style="color:#5b4f4c"><span style="font-family:arial\,sans-serif"><span style="font-size:9pt">On July 26\, 2018\, Craig Allen began his tenure in Washington\, DC\, as the sixth President of the USCBC\, a private\, nonpartisan\, nonprofit organization representing over 200 American companies doing business with China. Prior to joining USCBC\, Craig had a long\, distinguished career in US public service.</span></span></span><br />\n<span style="color:#5b4f4c"><span style="font-family:arial\,sans-serif"><span style="font-size:9pt">Craig began his government career in 1985 at the Department of Commerce&rsquo\;s International Trade Administration (ITA). He entered government as a Presidential Management Intern\, rotating through the four branches of ITA. From 1986 to 1988\, he was an international economist in ITA&rsquo\;s China Office.</span></span></span><br />\n<span style="color:#5b4f4c"><span style="font-family:arial\,sans-serif"><span style="font-size:9pt">In 1988\, Craig transferred to the American Institute in Taiwan\, where he served as Director of the American Trade Center in Taipei. He held this position until 1992\, when he returned to the Department of Commerce for a three-year posting at the US Embassy in Beijing as Commercial Attach&eacute\;.</span></span></span><br />\n<br />\n<em><span style="color:rgb(91\, 79\, 76)\; font-family:arial\,sans-serif\; font-size:9pt">This event is co-sponsored by Peoria Area World Affairs Council (PAWAC).</span></em><br />\n&nbsp\;
LOCATION:Zoom
UID:e.526.6543
SEQUENCE:3
DTSTAMP:20260421T083657Z
URL:https://business.epcc.org/events/details/us-china-relationship-what-businesses-need-to-know-6543
END:VEVENT

END:VCALENDAR
