BEGIN:VCALENDAR
VERSION:2.0
PRODID:-//ChamberMaster//Event Calendar 2.0//EN
METHOD:PUBLISH
X-PUBLISHED-TTL:P3D
REFRESH-INTERVAL:P3D
CALSCALE:GREGORIAN
BEGIN:VEVENT
DTSTART:20230808T170000Z
DTEND:20230808T183000Z
X-MICROSOFT-CDO-ALLDAYEVENT:FALSE
SUMMARY:Using Canva as a Tool for Your Business
DESCRIPTION:Canva is an easy-to-use design platform that allows you to create a variety of graphics for your business. Canva has for everything from social media images and web banners to marketing brochures\, flyers\, business cards\, presentations\, and just about everything in between. Canva offers templates and design elements to bring your vision to life.\n\n\n\nSpeaker:\n\nTheresa Bloom is a Social Media Adviser at the Turner Center\, as well as the Social Media Manager for the Foster College of Business and Caterpillar College of Engineering and Technology at Bradley University.  Theresa has been with the Turner Center for 5 years.  She enjoys working with small business owners and those wanting to start their own business.  She has a passion for helping business owners get their businesses discovered through the use of social media\, and is excited to share her knowledge and expertise with her clients.  Prior to coming to Bradley\, she had a career in the medical field\, as well as past experience in the insurance industry.   \n\nTheresa is a Peoria native\, having attended Peoria Notre Dame high school\, as well as being a graduate of Bradley University.
X-ALT-DESC;FMTTYPE=text/html:<span style="color:#040C28"><span style="font-family:times new roman\,serif"><span style="font-size:11.0pt">Canva is an easy-to-use design platform that allows you to create a variety of graphics for your business</span></span></span><span style="color:#4d5156"><span style="font-family:times new roman\,serif"><span style="font-size:11pt">. Canva has for everything from social media images and web banners to marketing brochures\, flyers\, business cards\, presentations\, and just about everything in between.</span></span></span> <span style="color:#202124"><span style="font-family:times new roman\,serif"><span style="font-size:11pt">Canva offers templates and design elements to bring your vision to life.</span></span></span><br />\n<br />\n<strong><span style="color:#222222"><span style="font-family:times new roman\,serif">Speaker</span></span></strong>:<br />\n<span style="font-family:times new roman\,serif">Theresa Bloom is a Social Media Adviser at the Turner Center\, as well as the Social Media Manager for the Foster College of Business and Caterpillar College of Engineering and Technology at Bradley University.&nbsp\; Theresa has been with the Turner Center for 5 years.&nbsp\; She enjoys working with small business owners and those wanting to start their own business.&nbsp\; She has a passion for helping business owners get their businesses discovered through the use of social media\, and is excited to share her knowledge and expertise with her clients.&nbsp\; Prior to coming to Bradley\, she had a career in the medical field\, as well as past experience in the insurance industry.&nbsp\;&nbsp\; </span><br />\n<span style="font-family:times new roman\,serif">Theresa is a Peoria native\, having attended Peoria Notre Dame high school\, as well as being a graduate of Bradley University.</span>
LOCATION:Online
UID:e.526.7279
SEQUENCE:3
DTSTAMP:20260422T102112Z
URL:https://business.epcc.org/events/details/using-canva-as-a-tool-for-your-business-7279
END:VEVENT

END:VCALENDAR
