BEGIN:VCALENDAR
VERSION:2.0
PRODID:-//ChamberMaster//Event Calendar 2.0//EN
METHOD:PUBLISH
X-PUBLISHED-TTL:P3D
REFRESH-INTERVAL:P3D
CALSCALE:GREGORIAN
BEGIN:VEVENT
DTSTART:20151110T150000Z
DTEND:20151110T190000Z
X-MICROSOFT-CDO-ALLDAYEVENT:FALSE
SUMMARY:Veteran Status Certification
DESCRIPTION:You can now have your designation as a veteran on your Illinois driver's license or identification card. Goodwill will host the Illinois Department of Veteran Affairs as they certify your veteran status. This will allow you the benefits of being officially identified as a veteran. Be sure to bring with a you copy of your DD-214 or Certification of Military Service (NA Form 13038).
X-ALT-DESC;FMTTYPE=text/html:You can now have your designation as a veteran on your Illinois driver&#39\;s license or identification card. Goodwill will host the Illinois Department of Veteran Affairs as they certify your veteran status. This will allow you the benefits of being officially identified as a veteran. Be sure to bring with a you copy of your DD-214 or Certification of Military Service (NA Form 13038).
LOCATION:Goodwill Commons\, 2319 E. War Memorial Dr.\, Peoria\, IL 61614
UID:e.526.2846
SEQUENCE:3
DTSTAMP:20260424T215241Z
URL:https://business.epcc.org/events/details/veteran-status-certification-11-10-2015-2846
END:VEVENT

END:VCALENDAR
