BEGIN:VCALENDAR
VERSION:2.0
PRODID:-//ChamberMaster//Event Calendar 2.0//EN
METHOD:PUBLISH
X-PUBLISHED-TTL:P3D
REFRESH-INTERVAL:P3D
CALSCALE:GREGORIAN
BEGIN:VEVENT
DTSTART:20160531T140000Z
DTEND:20160531T180000Z
X-MICROSOFT-CDO-ALLDAYEVENT:FALSE
SUMMARY:Veterans Benefits
DESCRIPTION:Are you interested in learning more about VA Health\, compensation\, and pension benefits eligibility? Schedule an appointment to meet with an accredited VA Claims Agent Tuesdays and Wednesdays. To schedule an appointment\, contact (309) 682-1113 ext. 2149 or ext. 2121.
X-ALT-DESC;FMTTYPE=text/html:Are you interested in learning more about VA Health\, compensation\, and pension benefits eligibility? Schedule an appointment to meet with an accredited VA Claims Agent Tuesdays and Wednesdays. To schedule an appointment\, contact (309) 682-1113 ext. 2149 or ext. 2121.
LOCATION:Goodwill Commons\, 2319 E. War Memorial Dr.\, Peoria IL 61614
UID:e.526.3101
SEQUENCE:3
DTSTAMP:20260424T134939Z
URL:https://business.epcc.org/events/details/veterans-benefits-05-31-2016-3101
END:VEVENT

END:VCALENDAR
