BEGIN:VCALENDAR
VERSION:2.0
PRODID:-//ChamberMaster//Event Calendar 2.0//EN
METHOD:PUBLISH
X-PUBLISHED-TTL:P3D
REFRESH-INTERVAL:P3D
CALSCALE:GREGORIAN
BEGIN:VEVENT
DTSTART:20151012T130000Z
DTEND:20151016T220000Z
X-MICROSOFT-CDO-ALLDAYEVENT:FALSE
SUMMARY:Veterans Benefits Workshops
DESCRIPTION:Are you interested in learning more about VA health\, compensation\, and pension benefits eligibility? Schedule an appointment to meet with an accredited VA Claims Agent. To schedule an appointment\, contact (309) 682-1113 ext. 2149 or ext. 2121.
X-ALT-DESC;FMTTYPE=text/html:Are you interested in learning more about VA health\, compensation\, and pension benefits eligibility? Schedule an appointment to meet with an accredited VA Claims Agent. To schedule an appointment\, contact (309) 682-1113 ext. 2149 or ext. 2121.
LOCATION:Goodwill Commons\, 2319 E. War Memorial Drive\, Peoria\, IL 61614
UID:e.526.2809
SEQUENCE:3
DTSTAMP:20260424T230616Z
URL:https://business.epcc.org/events/details/veterans-benefits-workshops-10-12-2015-2809
END:VEVENT

END:VCALENDAR
