BEGIN:VCALENDAR
VERSION:2.0
PRODID:-//ChamberMaster//Event Calendar 2.0//EN
METHOD:PUBLISH
X-PUBLISHED-TTL:P3D
REFRESH-INTERVAL:P3D
CALSCALE:GREGORIAN
BEGIN:VEVENT
DTSTART:20160519T140000Z
DTEND:20160519T170000Z
X-MICROSOFT-CDO-ALLDAYEVENT:FALSE
SUMMARY:Veterans - Mock Interview Sessions
DESCRIPTION:Our staff will guide you through a mock interview asking common interview questions and providing feedback to ensure you're prepared for the real deal. Appointments are required and can be made by calling (309) 682-1113 ext. 2121.
X-ALT-DESC;FMTTYPE=text/html:Our staff will guide you through a mock interview asking common interview questions and providing feedback to ensure you&#39\;re prepared for the real deal. Appointments are required and can be made by calling (309) 682-1113 ext. 2121.
LOCATION:Goodwill Commons\, 2319 E. War Memorial Dr.\, Peoria\, IL 61614
UID:e.526.3091
SEQUENCE:3
DTSTAMP:20260424T122837Z
URL:https://business.epcc.org/events/details/veterans-mock-interview-sessions-05-19-2016-3091
END:VEVENT

END:VCALENDAR
