BEGIN:VCALENDAR
VERSION:2.0
PRODID:-//ChamberMaster//Event Calendar 2.0//EN
METHOD:PUBLISH
X-PUBLISHED-TTL:P3D
REFRESH-INTERVAL:P3D
CALSCALE:GREGORIAN
BEGIN:VEVENT
DTSTART:20160523T150000Z
DTEND:20160523T160000Z
X-MICROSOFT-CDO-ALLDAYEVENT:FALSE
SUMMARY:Veterans - Preparing for Job Fairs
DESCRIPTION:Learn how to navigate job fairs\, create a plan of action to make the most of your time\, and how to approach employers. Once you've created your plan\, use your knowledge at Goodwill's June Hiring Events where you'll have the opportunity to meet with a number of local employers!
X-ALT-DESC;FMTTYPE=text/html:Learn how to navigate job fairs\, create a plan of action to make the most of your time\, and how to approach employers. Once you&#39\;ve created your plan\, use your knowledge at Goodwill&#39\;s June Hiring Events where you&#39\;ll have the opportunity to meet with a number of local employers!
LOCATION:Goodwill Commons at 2319 E. War Memorial Dr.\, Peoria\, IL 61614
UID:e.526.3085
SEQUENCE:3
DTSTAMP:20260424T123255Z
URL:https://business.epcc.org/events/details/veterans-preparing-for-job-fairs-05-23-2016-3085
END:VEVENT

END:VCALENDAR
