BEGIN:VCALENDAR
VERSION:2.0
PRODID:-//ChamberMaster//Event Calendar 2.0//EN
METHOD:PUBLISH
X-PUBLISHED-TTL:P3D
REFRESH-INTERVAL:P3D
CALSCALE:GREGORIAN
BEGIN:VEVENT
DTSTART:20160506T150000Z
DTEND:20160506T163000Z
X-MICROSOFT-CDO-ALLDAYEVENT:FALSE
SUMMARY:Veterans: Seven Steps to Success
DESCRIPTION:Learn the seven steps to becoming more successful in both your personal and professional life in this confidential\, interactive workshop.
X-ALT-DESC;FMTTYPE=text/html:Learn the seven steps to becoming more successful in both your personal and professional life in this confidential\, interactive workshop.
LOCATION:Goodwill Commons at 2319 E. War Memorial Dr.\, Peoria\, IL 61614
UID:e.526.3078
SEQUENCE:3
DTSTAMP:20260424T123029Z
URL:https://business.epcc.org/events/details/veterans-seven-steps-to-success-05-06-2016-3078
END:VEVENT

END:VCALENDAR
