BEGIN:VCALENDAR
VERSION:2.0
PRODID:-//ChamberMaster//Event Calendar 2.0//EN
METHOD:PUBLISH
X-PUBLISHED-TTL:P3D
REFRESH-INTERVAL:P3D
CALSCALE:GREGORIAN
BEGIN:VEVENT
DTSTART:20151015T210000Z
DTEND:20151015T223000Z
X-MICROSOFT-CDO-ALLDAYEVENT:FALSE
SUMMARY:Villain Friends Teen Workshop
DESCRIPTION:Based on The Teen's Guide to World Domination\, this workshop will teach you how to vanquish common types of false friends who can drag you down or hold you back. For ages 11-17.
X-ALT-DESC;FMTTYPE=text/html:Based on The Teen&#39\;s Guide to World Domination\, this workshop will teach you how to vanquish common types of false friends who can drag you down or hold you back. For ages 11-17.
LOCATION:Goodwill Commons\, 2319 E. War Memorial Dr.\, Peoria\, IL 61614
UID:e.526.1748
SEQUENCE:3
DTSTAMP:20260424T215656Z
URL:https://business.epcc.org/events/details/villain-friends-teen-workshop-10-15-2015-1748
END:VEVENT

END:VCALENDAR
