BEGIN:VCALENDAR
VERSION:2.0
PRODID:-//ChamberMaster//Event Calendar 2.0//EN
METHOD:PUBLISH
X-PUBLISHED-TTL:P3D
REFRESH-INTERVAL:P3D
CALSCALE:GREGORIAN
BEGIN:VEVENT
DTSTART:20160519T221500Z
DTEND:20160520T020000Z
X-MICROSOFT-CDO-ALLDAYEVENT:FALSE
SUMMARY:Viva Las Vegas: A Fon du Lac Park District Fundraiser
DESCRIPTION:Viva Las Vegas is a fundraising event benefiting the Fon du Lac Park District Adult/Senior Program. Play Vegas-style games\, win play money\, enjoy a delicious buffet dinner\, and then bid on prizes with your winnings! Tickets are available at the Fon du Lac Park District Administration Center at 201 Veterans Drive in East Peoria.
X-ALT-DESC;FMTTYPE=text/html:Viva Las Vegas is a fundraising event benefiting the Fon du Lac Park District Adult/Senior Program. Play Vegas-style games\, win play money\, enjoy a delicious buffet dinner\, and then bid on prizes with your winnings! Tickets are available at the Fon du Lac Park District Administration Center at 201 Veterans Drive in East Peoria.
LOCATION:Quail Meadows Golf Course 2215 Centennial Drive East Peoria\, IL 61611
UID:e.526.3077
SEQUENCE:3
DTSTAMP:20260424T123331Z
URL:https://business.epcc.org/events/details/viva-las-vegas-a-fon-du-lac-park-district-fundraiser-05-19-2016-3077
END:VEVENT

END:VCALENDAR
